BEGIN:VCALENDAR
VERSION:2.0
PRODID:-//Obuda.hu - ECPv6.11.2//NONSGML v1.0//EN
CALSCALE:GREGORIAN
METHOD:PUBLISH
X-WR-CALNAME:Obuda.hu
X-ORIGINAL-URL:https://obuda.hu
X-WR-CALDESC:Events for Obuda.hu
REFRESH-INTERVAL;VALUE=DURATION:PT1H
X-Robots-Tag:noindex
X-PUBLISHED-TTL:PT1H
BEGIN:VTIMEZONE
TZID:Europe/Budapest
BEGIN:DAYLIGHT
TZOFFSETFROM:+0100
TZOFFSETTO:+0200
TZNAME:CEST
DTSTART:20250330T010000
END:DAYLIGHT
BEGIN:STANDARD
TZOFFSETFROM:+0200
TZOFFSETTO:+0100
TZNAME:CET
DTSTART:20251026T010000
END:STANDARD
END:VTIMEZONE
BEGIN:VEVENT
DTSTART;TZID=Europe/Budapest:20251214T170000
DTEND;TZID=Europe/Budapest:20251214T170000
DTSTAMP:20260425T200329
CREATED:20251019T200556Z
LAST-MODIFIED:20251019T200602Z
UID:61491-1765731600-1765731600@obuda.hu
SUMMARY:A Józsa Tamás Zenesuli karácsonyi koncertje
DESCRIPTION:„A karácsony csupa szeretet és varázs. A karácsony csupa móka és kacagás. A karácsony a szemedben a csillogás. A karácsony a szívdobbanás. Karácsonykor az igazi ajándék\, ha meglátod a másikban a valódi életfényt.”Karácsonyi koncertünk mottója: Az egymásra hangolódás a tiszteletben születik. A tiszteletben\, a figyelemben s az odafigyelésben mindenki és minden iránt. \nA belépés ingyenes.
URL:https://obuda.hu/esemeny/a-jozsa-tamas-zenesuli-karacsonyi-koncertje-2/
LOCATION:Csillaghegyi Közösségi Ház\, Mátyás király út 11-15.\, Budapest\, 1033
ATTACH;FMTTYPE=image/jpeg:https://obuda.hu/wp-content/uploads/2025/10/tn_2651_Jozsa_Tamas_copy-jpg.webp
END:VEVENT
END:VCALENDAR