BEGIN:VCALENDAR
VERSION:2.0
PRODID:-//Obuda.hu - ECPv6.11.2//NONSGML v1.0//EN
CALSCALE:GREGORIAN
METHOD:PUBLISH
X-WR-CALNAME:Obuda.hu
X-ORIGINAL-URL:https://obuda.hu
X-WR-CALDESC:Events for Obuda.hu
REFRESH-INTERVAL;VALUE=DURATION:PT1H
X-Robots-Tag:noindex
X-PUBLISHED-TTL:PT1H
BEGIN:VTIMEZONE
TZID:Europe/Budapest
BEGIN:DAYLIGHT
TZOFFSETFROM:+0100
TZOFFSETTO:+0200
TZNAME:CEST
DTSTART:20250330T010000
END:DAYLIGHT
BEGIN:STANDARD
TZOFFSETFROM:+0200
TZOFFSETTO:+0100
TZNAME:CET
DTSTART:20251026T010000
END:STANDARD
END:VTIMEZONE
BEGIN:VEVENT
DTSTART;TZID=Europe/Budapest:20251207T190000
DTEND;TZID=Europe/Budapest:20251207T203000
DTSTAMP:20260425T155214
CREATED:20251105T133114Z
LAST-MODIFIED:20260115T050221Z
UID:62113-1765134000-1765139400@obuda.hu
SUMMARY:Adventi hangolódás népszerű művekkel - az Óbudai Kamarazenekar hangversenye
DESCRIPTION:Felix Mendelssohn: Hebridák-nyitány\nWolfgang Amadeus Mozart: B-dúr fagottverseny KV. 191.\nszólista: Lakatos György (fagott) \n– szünet – \nJoseph Haydn: G-dúr “Meglepetés” szimfónia No. 94. \nVezényel: Gazda Péter \nAz Óbudai Advent rendezvénysorozat egyik elmaradhatatlan zenei élményét a Társaskörben évtizedek óta az Óbudai Kamarazenekar adja. Ezúttal szimfonikus művek\, közkedvelt zeneszerzők ismert dallamai csendülnek fel. Mozart egyetlen fagottversenyét a kiváló fagottművész\, a Liszt-díjas és még számos díj birtokosa\, Lakatos György adja elő.\nA zenekart Gazda Péter hegedűművész-karmester vezényli.\nAz Óbudai Kamarazenekar már 71 éve Óbuda amatőr zenei mozgalmának\, kulturális hagyományának szerves része. Célja az élőzene élménye mellett az amatőr zenélés egész életen át tartó gyakorlásának népszerűsítése\, közösségteremtő erejének megmutatása. \nFotó: Gálos Mihály Samu \n 
URL:https://obuda.hu/esemeny/adventi-hangolodas-nepszeru-muvekkel-az-obudai-kamarazenekar-hangversenye/
LOCATION:Óbudai Társaskör\, Kiskorona utca 7.\, Budapest\, 1036\, Magyarország
ATTACH;FMTTYPE=image/webp:https://obuda.hu/wp-content/uploads/2025/11/OBudai-Kamarazenekar-scaled-1.webp
END:VEVENT
END:VCALENDAR