BEGIN:VCALENDAR
VERSION:2.0
PRODID:-//Obuda.hu - ECPv6.11.2//NONSGML v1.0//EN
CALSCALE:GREGORIAN
METHOD:PUBLISH
X-WR-CALNAME:Obuda.hu
X-ORIGINAL-URL:https://obuda.hu
X-WR-CALDESC:Events for Obuda.hu
REFRESH-INTERVAL;VALUE=DURATION:PT1H
X-Robots-Tag:noindex
X-PUBLISHED-TTL:PT1H
BEGIN:VTIMEZONE
TZID:Europe/Budapest
BEGIN:DAYLIGHT
TZOFFSETFROM:+0100
TZOFFSETTO:+0200
TZNAME:CEST
DTSTART:20250330T010000
END:DAYLIGHT
BEGIN:STANDARD
TZOFFSETFROM:+0200
TZOFFSETTO:+0100
TZNAME:CET
DTSTART:20251026T010000
END:STANDARD
END:VTIMEZONE
BEGIN:VEVENT
DTSTART;TZID=Europe/Budapest:20251215T180000
DTEND;TZID=Europe/Budapest:20251215T200000
DTSTAMP:20260425T161526
CREATED:20251119T230729Z
LAST-MODIFIED:20251127T192353Z
UID:62763-1765821600-1765828800@obuda.hu
SUMMARY:ADVENTI JÓGA - a szeretet jegyében
DESCRIPTION:DECEMBER 1. és 15. \nHÉTFŐ\, 18:00-20:00 \n  \nHelyszín: Szindbád Rendezvényterem \n  \nAz advent a lelassulás\, a befelé figyelés és a szeretet ideje. Idén az ünnepi készülődés közepette két különleges jógagyakorlással várunk\, ahol a mozdulatokon túl a szív erejére is figyelünk. \nAz egyik alkalommal állatvédelemnek\, a másikon pedig rászoruló emberek támogatására gyűjtünk. Az órák ingyenesek\, de lehetőséged lesz adományt felajánlani olyat\, amit szívből és a lelkedből tudsz adni. \nA fókusz most az adakozás\, az elfogadás és a szeretet megélésén van – egy csendesebb\, bensőséges adventi hangulatban. \n  \nA részvétel regisztrációhoz kötött\, amit hamarosan a Facebook eseményekben tudsz megtenni. A helyek száma teremkapacitás miatt limitált\, így érdemes időben jelentkezni. \n  \nGyere el\, mozdulj a szeretetért – és töltsd meg decemberedet fénnyel\, jósággal és nyugalommal. \n 
URL:https://obuda.hu/esemeny/adventi-joga-a-szeretet-jegyeben-3/
LOCATION:Esernyős\, Szindbád Rendezvényterem\, Fő tér 2.\, Budapest\, 1033\, Magyarország
ATTACH;FMTTYPE=image/jpeg:https://obuda.hu/wp-content/uploads/2025/11/Facebook_esemeny_12_15_ADVENTI-JOGA-1-jpg.webp
ORGANIZER;CN="Eserny%C5%91s %C3%93budai Kultur%C3%A1lis %C3%A9s Sport Nonprofit Kft.":MAILTO:info@esernyos.hu
END:VEVENT
END:VCALENDAR