BEGIN:VCALENDAR
VERSION:2.0
PRODID:-//Obuda.hu - ECPv6.11.2//NONSGML v1.0//EN
CALSCALE:GREGORIAN
METHOD:PUBLISH
X-WR-CALNAME:Obuda.hu
X-ORIGINAL-URL:https://obuda.hu
X-WR-CALDESC:Events for Obuda.hu
REFRESH-INTERVAL;VALUE=DURATION:PT1H
X-Robots-Tag:noindex
X-PUBLISHED-TTL:PT1H
BEGIN:VTIMEZONE
TZID:Europe/Budapest
BEGIN:DAYLIGHT
TZOFFSETFROM:+0100
TZOFFSETTO:+0200
TZNAME:CEST
DTSTART:20250330T010000
END:DAYLIGHT
BEGIN:STANDARD
TZOFFSETFROM:+0200
TZOFFSETTO:+0100
TZNAME:CET
DTSTART:20251026T010000
END:STANDARD
END:VTIMEZONE
BEGIN:VEVENT
DTSTART;TZID=Europe/Budapest:20251129T150000
DTEND;TZID=Europe/Budapest:20251129T173000
DTSTAMP:20260425T155752
CREATED:20251019T182343Z
LAST-MODIFIED:20251019T182453Z
UID:61378-1764428400-1764437400@obuda.hu
SUMMARY:Adventi kézműves délután hölgyeknek
DESCRIPTION:Az adventi időszak kezdetén egy meghitt hangulatú\, alkotó délutánon a karácsonyi asztaldísz készítése közben forró tea és sütemény mellett hangolódhatunk a közelgő ünnepekre\, inspiráló női környezetben.Hozd magaddal kreativitásodat\, jó kedvedet\, régi\, már nem használt bögrédet vagy kisméretű tányérodat\, a szükséges dekorációkat\, kiegészítőket és kellékeket mi biztosítjuk. \nA részvétel ingyenes\, de regisztrációhoz kötött. Regisztrálni kizárólag november 10 és 17 között lehet (a létszám erejéig) foglalkozásonként 20 fős csoportokra (15.00 és 16.30 kezdéssel) a következő címen: okkszervezo@kulturkozpont.hu \nA program 16 éves kortól ajánlott! \nA fotó illusztráció.
URL:https://obuda.hu/esemeny/adventi-kezmuves-delutan-holgyeknek/
LOCATION:Óbudai Kulturális Központ\, San Marco utca 81.\, Budapest\, 1032\, Magyarország
ATTACH;FMTTYPE=image/jpeg:https://obuda.hu/wp-content/uploads/2025/10/tn_2830_Adventi_kezmuves_2_copy-jpg.webp
END:VEVENT
END:VCALENDAR