BEGIN:VCALENDAR
VERSION:2.0
PRODID:-//Obuda.hu - ECPv6.11.2//NONSGML v1.0//EN
CALSCALE:GREGORIAN
METHOD:PUBLISH
X-WR-CALNAME:Obuda.hu
X-ORIGINAL-URL:https://obuda.hu
X-WR-CALDESC:Events for Obuda.hu
REFRESH-INTERVAL;VALUE=DURATION:PT1H
X-Robots-Tag:noindex
X-PUBLISHED-TTL:PT1H
BEGIN:VTIMEZONE
TZID:Europe/Budapest
BEGIN:DAYLIGHT
TZOFFSETFROM:+0100
TZOFFSETTO:+0200
TZNAME:CEST
DTSTART:20240331T010000
END:DAYLIGHT
BEGIN:STANDARD
TZOFFSETFROM:+0200
TZOFFSETTO:+0100
TZNAME:CET
DTSTART:20241027T010000
END:STANDARD
END:VTIMEZONE
BEGIN:VEVENT
DTSTART;TZID=Europe/Budapest:20240422T180000
DTEND;TZID=Europe/Budapest:20240422T190000
DTSTAMP:20260425T234653
CREATED:20240411T123625Z
LAST-MODIFIED:20240411T123625Z
UID:44297-1713808800-1713812400@obuda.hu
SUMMARY:Ahogy ma a gyerekeinkkel bánunk\, olyan jövő vár ránk holnap. A gyerekjogokról és gyerekbántalmazásról érthetően
DESCRIPTION:Szeretnénk biztonságban tudni a gyerekeinket. \nMárpedig a gyerekek védelme akkor tud igazán megvalósulni\, ha az egész közösség elköteleződik a feladat mellett – ehhez viszont arra van szükség\, hogy mindannyian ugyanazt értsük a gyermekvédelem legfontosabb fogalmai alatt. \n  \nEgy órás\, elsősorban szülőknek szóló előadásában Stáhly Kata\, a NEMECSEK Program szakmai vezetője\, pszichológus és gyerekjogi szakértő többek között az alábbi kérdésekről beszél: \n\nMik azok a gyerekjogok és miért fontosak?\nMi a gyerekbántalmazás\, milyen formái jelei vannak?\nHogyan tudom észrevenni szülőként\, ha bántják a gyerekem?\nMit tehetek ebben a helyzetben?\n\n  \nCélunk\, hogy az ezekre a kérdésekre adott válaszokat minél több szülőhöz\, felelős felnőtthöz eljuttassuk\, és így együtt tegyünk a gyerekek biztonságáért és jóllétéért. Az előadás után lesz lehetőség kérdésekre\, beszélgetésre is a témában. \nTartsanak velünk\, kérdezzenek bátran. Segítünk. \nÓbuda-Békásmegyer Önkormányzat és a Hintalovon Gyermekjogi Alapítvány közötti együttműködés célja a harmadik kerületi gyermekvédelmi rendszer megerősítése\, ennek egy újabb lépcsője lehet ez az alkalom\, ahol sok fontos kérdésükre kaphatnak választ. Csatlakozzanak minél többen\, várjuk Önöket szeretettel. \n 
URL:https://obuda.hu/esemeny/ahogy-ma-a-gyerekeinkkel-banunk-olyan-jovo-var-rank-holnap-a-gyerekjogokrol-es-gyerekbantalmazasrol-erthetoen/
LOCATION:Esernyős Kamaraterem\, Fő tér 2\, Budapest\, 1033
ATTACH;FMTTYPE=image/png:https://obuda.hu/wp-content/uploads/2024/04/hintalovon2024_04_22_hero.png
END:VEVENT
END:VCALENDAR