BEGIN:VCALENDAR
VERSION:2.0
PRODID:-//Obuda.hu - ECPv6.11.2//NONSGML v1.0//EN
CALSCALE:GREGORIAN
METHOD:PUBLISH
X-WR-CALNAME:Obuda.hu
X-ORIGINAL-URL:https://obuda.hu
X-WR-CALDESC:Events for Obuda.hu
REFRESH-INTERVAL;VALUE=DURATION:PT1H
X-Robots-Tag:noindex
X-PUBLISHED-TTL:PT1H
BEGIN:VTIMEZONE
TZID:Europe/Budapest
BEGIN:DAYLIGHT
TZOFFSETFROM:+0100
TZOFFSETTO:+0200
TZNAME:CEST
DTSTART:20250330T010000
END:DAYLIGHT
BEGIN:STANDARD
TZOFFSETFROM:+0200
TZOFFSETTO:+0100
TZNAME:CET
DTSTART:20251026T010000
END:STANDARD
END:VTIMEZONE
BEGIN:VEVENT
DTSTART;TZID=Europe/Budapest:20250402T173000
DTEND;TZID=Europe/Budapest:20250402T183000
DTSTAMP:20260425T150612
CREATED:20250320T103730Z
LAST-MODIFIED:20250320T114554Z
UID:53324-1743615000-1743618600@obuda.hu
SUMMARY:Biztonságos iskolák\, boldogabb gyerekek – élő online előadás a Gyermekjogi Program keretében
DESCRIPTION:Az iskolai bántalmazás napjaink egyik legégetőbb problémája\, olyan jelenség\, amely az áldozatokra\, az elkövetőkre és a szemlélőkre is negatív hatással lehet. S bár a kortárs bántalmazás nem természetes velejárója a gyerekkornak\, és mindenki szereti azt gondolni\, az ő csemetéjét nem érinti ez a probléma\, fontos tisztában lennünk vele\, hogy bullying bármely közösségben előfordulhat. Óbuda-Békásmegyer Önkormányzat és a Hintalovon Gyermekjogi Alapítvány közös virtuális eseményén Rosta Ágnes pszichológus járja körül a témát\, beleértve az online bántalmazás kérdéskörét is.\nAz előadás célja\, hogy átfogó képet adjon a témában és segítse a szülőket\, pedagógusokat\, a gyermekekkel foglalkozó szakembereket\, valamint minden\, a téma iránt érdeklődő felelős felnőttet abban\, hogyan ismerje fel az iskolai bántalmazás jeleit\, miként előzheti meg azt\, és hogyan kezelje hatékonyan\, ha minden óvintézkedés ellenére kialakul egy ilyen helyzet.\nAz online elérhető\, élő előadás végén lehetőség lesz kérdésekre és beszélgetésre is a témában. Várjuk a felvetéseket\, kommenteket!.\nAz előadás ingyenes\, és nem szükséges előzetes regisztráció.\nCsatlakozzon hozzánk\, tegyünk együtt a biztonságosabb\, elfogadóbb iskolai környezetért!
URL:https://obuda.hu/esemeny/biztonsagos-iskolak-boldogabb-gyerekek-elo-online-eloadas-a-gyermekjogi-program-kereteben/
ATTACH;FMTTYPE=image/png:https://obuda.hu/wp-content/uploads/2025/03/hintalovon2025_04_02_hero.png
END:VEVENT
END:VCALENDAR