BEGIN:VCALENDAR
VERSION:2.0
PRODID:-//Obuda.hu - ECPv6.11.2//NONSGML v1.0//EN
CALSCALE:GREGORIAN
METHOD:PUBLISH
X-WR-CALNAME:Obuda.hu
X-ORIGINAL-URL:https://obuda.hu
X-WR-CALDESC:Events for Obuda.hu
REFRESH-INTERVAL;VALUE=DURATION:PT1H
X-Robots-Tag:noindex
X-PUBLISHED-TTL:PT1H
BEGIN:VTIMEZONE
TZID:Europe/Budapest
BEGIN:DAYLIGHT
TZOFFSETFROM:+0100
TZOFFSETTO:+0200
TZNAME:CEST
DTSTART:20240331T010000
END:DAYLIGHT
BEGIN:STANDARD
TZOFFSETFROM:+0200
TZOFFSETTO:+0100
TZNAME:CET
DTSTART:20241027T010000
END:STANDARD
END:VTIMEZONE
BEGIN:VEVENT
DTSTART;TZID=Europe/Budapest:20240617T190000
DTEND;TZID=Europe/Budapest:20240617T210000
DTSTAMP:20260425T163202
CREATED:20240523T135916Z
LAST-MODIFIED:20260115T050025Z
UID:57246-1718650800-1718658000@obuda.hu
SUMMARY:BÓDI ATTILA: IKREK - GÁSPÁR SÁNDOR és GÁSPÁR TIBOR
DESCRIPTION:Bódi Attila: Ikrek – felolvasószínházi est \n \nSzereplők: Gáspár Sándor és Gáspár Tibor \nNem a drámához kerestünk szereplőket\, hanem a szereplőkhöz drámát. Olyan drámát\, ami egyetlen szempontból emlékeztet a civil életükre: testvéreknek kerestünk olyan szöveget\, amelyben testvérek szerepelnek. Bár az est főszereplőit\, Gáspár Sándort és Gáspár Tibort a családi kötelékeken kívül a szakmájuk is összekapcsolja\, mégsem szerepeltek még együtt. \nBódi Attila drámájában egy ikerpár beszélget az anyaméhben. A szerző 1970-ben született Szatmárnémetiben\, tevékeny résztvevője volt az erdélyi magyar kulturális életnek. Családjával 2006-ban települt Magyarországra. Eddig két regénye jelent meg: a Lázadni veletek akartam (2017) és a Pax (2020). A Lázadni veletek akartam színpadi adaptációja 2022-ben elnyerte a Kortárs Magyar Dráma-díjat. \nAz est rendezője: Árkosi Árpád. \nA felolvasás után szakmai beszélgetést szervezünk az alkotókkal\, amelynek során természetesen a közönség is kérdezhet. \nAz est producere és dramaturgja Blastik Noémi és Perczel Enikő. A program a Dramaturgok Céhe és az Óbudai Társaskör együttműködéseként valósul meg.
URL:https://obuda.hu/esemeny/bodi-attila-ikrek-gaspar-sandos-es-gaspar-tibor/
LOCATION:Óbudai Társaskör\, Kiskorona utca 7.\, Budapest\, 1036\, Magyarország
ATTACH;FMTTYPE=image/webp:https://obuda.hu/wp-content/uploads/2025/06/gaspar_tibor_sandor-scaled-1.webp
END:VEVENT
END:VCALENDAR