BEGIN:VCALENDAR
VERSION:2.0
PRODID:-//Obuda.hu - ECPv6.11.2//NONSGML v1.0//EN
CALSCALE:GREGORIAN
METHOD:PUBLISH
X-WR-CALNAME:Obuda.hu
X-ORIGINAL-URL:https://obuda.hu
X-WR-CALDESC:Events for Obuda.hu
REFRESH-INTERVAL;VALUE=DURATION:PT1H
X-Robots-Tag:noindex
X-PUBLISHED-TTL:PT1H
BEGIN:VTIMEZONE
TZID:Europe/Budapest
BEGIN:DAYLIGHT
TZOFFSETFROM:+0100
TZOFFSETTO:+0200
TZNAME:CEST
DTSTART:20250330T010000
END:DAYLIGHT
BEGIN:STANDARD
TZOFFSETFROM:+0200
TZOFFSETTO:+0100
TZNAME:CET
DTSTART:20251026T010000
END:STANDARD
END:VTIMEZONE
BEGIN:VEVENT
DTSTART;TZID=Europe/Budapest:20251213T110000
DTEND;TZID=Europe/Budapest:20251213T110000
DTSTAMP:20260426T010649
CREATED:20251210T155848Z
LAST-MODIFIED:20251210T171608Z
UID:63493-1765623600-1765623600@obuda.hu
SUMMARY:Bognár Szilvia: Adventi TITOKTOK -  interaktív családi koncert
DESCRIPTION:Bognár Szilvia adventi családi koncertje az Advent Óbudán színpadán. \nDalok\, versek\, mondókák\, szép muzsika\, gyertyaillat\, harangszó… és egy varázslatos égszínkék kendő\, egy igazi Titoktok! Weöres Sándor\, Nemes Nagy Ágnes\, Kányádi Sándor megzenésített sorai népi dallamokkal karöltve vezetnek bennünket a titkos úton\, Moldovától egy sikátorban rejlő ugróiskoláig. Ahogy épp a kedvünk tartja\, ahogy épp a forgandó szerencse hozza\, de mindenképpen alkalmat kínálva a közös dalolásra\, játékra és persze a karácsony előtti elcsendesedésre\, várakozásra\, örömre is. \nKözreműködik: \nBognár Szilvia – ének \nFödő Sándor – ütőhangszerek\, harmonika \nBede Péter – szaxofon \nCsókás Zsolt – gitár
URL:https://obuda.hu/esemeny/bognar-szilvia-adventi-titoktok-interaktiv-csaladi-koncert/
LOCATION:Fő tér
ATTACH;FMTTYPE=image/jpeg:https://obuda.hu/wp-content/uploads/2025/12/Bognar-Szilvia-jpg.webp
END:VEVENT
END:VCALENDAR