BEGIN:VCALENDAR
VERSION:2.0
PRODID:-//Obuda.hu - ECPv6.11.2//NONSGML v1.0//EN
CALSCALE:GREGORIAN
METHOD:PUBLISH
X-WR-CALNAME:Obuda.hu
X-ORIGINAL-URL:https://obuda.hu
X-WR-CALDESC:Events for Obuda.hu
REFRESH-INTERVAL;VALUE=DURATION:PT1H
X-Robots-Tag:noindex
X-PUBLISHED-TTL:PT1H
BEGIN:VTIMEZONE
TZID:Europe/Budapest
BEGIN:DAYLIGHT
TZOFFSETFROM:+0100
TZOFFSETTO:+0200
TZNAME:CEST
DTSTART:20250330T010000
END:DAYLIGHT
BEGIN:STANDARD
TZOFFSETFROM:+0200
TZOFFSETTO:+0100
TZNAME:CET
DTSTART:20251026T010000
END:STANDARD
END:VTIMEZONE
BEGIN:VEVENT
DTSTART;TZID=Europe/Budapest:20250916T070000
DTEND;TZID=Europe/Budapest:20250916T090000
DTSTAMP:20260425T181424
CREATED:20250812T101626Z
LAST-MODIFIED:20250812T101710Z
UID:59432-1758006000-1758013200@obuda.hu
SUMMARY:Bringás pop-up reggeli
DESCRIPTION:SZEPTEMBER 16.KEDD\, 7:00-9:00\nBringás pop-up reggeli\nReggel munkába vagy iskolába indulsz? Válaszd a kerékpárt\, és mi meglepünk egy finom reggelivel! A Magyar Kerékpárosklub Észak-budai Területi Szervezete és az Esernyős szeretettel vár minden biciklivel érkezőt a bringás reggelin\, ahol a finomságok mellett egy jó hangulatú közösségi élmény is vár rád! A rendezvény célja\, hogy megmutassuk: biciklivel közlekedni nemcsak környezetbarát és egészséges\, hanem kényelmes és gyors is – különösen\, ha egy ízletes reggelivel indul a nap!\nDátum: 2025. szeptember 16. 7:00-9:00 óra között\nHelyszín: Szentlélek tér\nLegyél te a követendő példa és mutasd meg a környezetednek\, mit tehetünk a jövőnkért! Bringázz a munkába!\nTovábbi információ: https://www.bringazzamunkaba.hu/\nTámogassátok a bringás ügyet! Tagság\, webshop vásárlás\, adomány: https://kerekparosklub.hu/tamogass-minket\n\nSzervezők\, közreműködők: Esernyős Óbudai Kulturális és Sport Nonprofit Kft. Magyar Kerékpárosklub Észak-budai Területi Szervezet\nKöszönjük Óbuda-Békásmegyer Önkormányzatának támogatását!
URL:https://obuda.hu/esemeny/bringas-pop-up-reggeli/
ATTACH;FMTTYPE=image/jpeg:https://obuda.hu/wp-content/uploads/2025/08/Facebook_esemeny_POP-UP-REGGELI-_09_16-jpg.webp
ORGANIZER;CN="Eserny%C5%91s %C3%93budai Kultur%C3%A1lis %C3%A9s Sport Nonprofit Kft.":MAILTO:info@esernyos.hu
END:VEVENT
END:VCALENDAR