BEGIN:VCALENDAR
VERSION:2.0
PRODID:-//Obuda.hu - ECPv6.11.2//NONSGML v1.0//EN
CALSCALE:GREGORIAN
METHOD:PUBLISH
X-WR-CALNAME:Obuda.hu
X-ORIGINAL-URL:https://obuda.hu
X-WR-CALDESC:Events for Obuda.hu
REFRESH-INTERVAL;VALUE=DURATION:PT1H
X-Robots-Tag:noindex
X-PUBLISHED-TTL:PT1H
BEGIN:VTIMEZONE
TZID:Europe/Budapest
BEGIN:DAYLIGHT
TZOFFSETFROM:+0100
TZOFFSETTO:+0200
TZNAME:CEST
DTSTART:20250330T010000
END:DAYLIGHT
BEGIN:STANDARD
TZOFFSETFROM:+0200
TZOFFSETTO:+0100
TZNAME:CET
DTSTART:20251026T010000
END:STANDARD
BEGIN:DAYLIGHT
TZOFFSETFROM:+0100
TZOFFSETTO:+0200
TZNAME:CEST
DTSTART:20260329T010000
END:DAYLIGHT
BEGIN:STANDARD
TZOFFSETFROM:+0200
TZOFFSETTO:+0100
TZNAME:CET
DTSTART:20261025T010000
END:STANDARD
END:VTIMEZONE
BEGIN:VEVENT
DTSTART;TZID=Europe/Budapest:20251210T190000
DTEND;TZID=Europe/Budapest:20260109T210000
DTSTAMP:20260426T032918
CREATED:20251119T225241Z
LAST-MODIFIED:20251119T225241Z
UID:62747-1765393200-1767992400@obuda.hu
SUMMARY:Café Live - Olive Live koncert
DESCRIPTION:DECEMBER 10.  \nSZERDA\, 19:00 \n  \nCafé Live – Olive Live koncert \n  \nHelyszín: Kávézó \nA pomázi zeneiskola hozott össze bennünket még gimis éveinkben\, innen nőtte ki magát az Olive Live\, ami 2018-ban alakult meg. A kezdetben kedvenc jazz és popdalainkból összeállított műsorunk azóta folyamatosan bővül saját számainkkal. Sok-sok évre visszanyúló barátságunknak köszönhetően tud játékunk igazi felszabadult örömzenélés lenni. \nSzczuka Panka – ének\, gitár\, ukulele  \nOrszág Eszti – ének\, ukulele\, szinti  \nSzczuka Borcsa – basszusgitár  \nFöldi Bazsi – dob
URL:https://obuda.hu/esemeny/cafe-live-olive-live-koncert/
LOCATION:Esernyős\, Kávézó\, Fő tér 2.\, Budapest\, Pest megye\, 1033\, Magyarország
ATTACH;FMTTYPE=image/jpeg:https://obuda.hu/wp-content/uploads/2025/11/Facebook_esemeny_12_10_Cafe-Live-OLIVE-LIVE-jpg.webp
ORGANIZER;CN="Eserny%C5%91s %C3%93budai Kultur%C3%A1lis %C3%A9s Sport Nonprofit Kft.":MAILTO:info@esernyos.hu
END:VEVENT
END:VCALENDAR