BEGIN:VCALENDAR
VERSION:2.0
PRODID:-//Obuda.hu - ECPv6.11.2//NONSGML v1.0//EN
CALSCALE:GREGORIAN
METHOD:PUBLISH
X-WR-CALNAME:Obuda.hu
X-ORIGINAL-URL:https://obuda.hu
X-WR-CALDESC:Events for Obuda.hu
REFRESH-INTERVAL;VALUE=DURATION:PT1H
X-Robots-Tag:noindex
X-PUBLISHED-TTL:PT1H
BEGIN:VTIMEZONE
TZID:Europe/Budapest
BEGIN:DAYLIGHT
TZOFFSETFROM:+0100
TZOFFSETTO:+0200
TZNAME:CEST
DTSTART:20240331T010000
END:DAYLIGHT
BEGIN:STANDARD
TZOFFSETFROM:+0200
TZOFFSETTO:+0100
TZNAME:CET
DTSTART:20241027T010000
END:STANDARD
END:VTIMEZONE
BEGIN:VEVENT
DTSTART;TZID=Europe/Budapest:20240215T190000
DTEND;TZID=Europe/Budapest:20240215T203000
DTSTAMP:20260425T180212
CREATED:20240102T094222Z
LAST-MODIFIED:20240102T094222Z
UID:41713-1708023600-1708029000@obuda.hu
SUMMARY:CAFÉ LIVE!: Wizművek
DESCRIPTION:A Wizművek zenekarban a különleges hangú és francia sanzon előadásairól ismertté vált Orbán Bori énekli Wizner Balázs dalait\, amelyek egyszerre merítenek a jazz és alternatív rock zenei hagyományokból\, de stílusukban és előadásmódjukban leginkább Serge Geinsbourg vagy Leonard Cohen világához állnak közel. A zenekar ezúttal csendesebb hangszereléssel lép fel\, ami a dalok bensőséges hangulatát és költői mondanivalóját még inkább kifejezi. \n  \nÉnek: Orbán Bori \nTrombita-gitár-vokál: Wizner Balázs \nBillentyű: Kiss András \nÜtőhangszerek: Prikler Attila \nVokál: Prikler Csenge \n  \nA belépés ingyenes! 
URL:https://obuda.hu/esemeny/cafe-live-wizmuvek/
LOCATION:Esernyős\, Kávézó\, Fő tér 2.\, Budapest\, Pest megye\, 1033\, Magyarország
ATTACH;FMTTYPE=image/jpeg:https://obuda.hu/wp-content/uploads/2024/01/large-4-jpg.webp
ORGANIZER;CN="Eserny%C5%91s %C3%93budai Kultur%C3%A1lis %C3%A9s Sport Nonprofit Kft.":MAILTO:info@esernyos.hu
END:VEVENT
END:VCALENDAR