BEGIN:VCALENDAR
VERSION:2.0
PRODID:-//Obuda.hu - ECPv6.11.2//NONSGML v1.0//EN
CALSCALE:GREGORIAN
METHOD:PUBLISH
X-WR-CALNAME:Obuda.hu
X-ORIGINAL-URL:https://obuda.hu
X-WR-CALDESC:Events for Obuda.hu
REFRESH-INTERVAL;VALUE=DURATION:PT1H
X-Robots-Tag:noindex
X-PUBLISHED-TTL:PT1H
BEGIN:VTIMEZONE
TZID:Europe/Budapest
BEGIN:DAYLIGHT
TZOFFSETFROM:+0100
TZOFFSETTO:+0200
TZNAME:CEST
DTSTART:20240331T010000
END:DAYLIGHT
BEGIN:STANDARD
TZOFFSETFROM:+0200
TZOFFSETTO:+0100
TZNAME:CET
DTSTART:20241027T010000
END:STANDARD
END:VTIMEZONE
BEGIN:VEVENT
DTSTART;TZID=Europe/Budapest:20241002T173000
DTEND;TZID=Europe/Budapest:20241002T190000
DTSTAMP:20260425T133231
CREATED:20240917T074447Z
LAST-MODIFIED:20240917T074447Z
UID:48670-1727890200-1727895600@obuda.hu
SUMMARY:Digitális gyermekkor – az iskolai mobilkorlátozás tükrében
DESCRIPTION:Sokakat foglalkoztat manapság az online biztonság kérdésköre\, az Esernyősben is találkozhatott már a témával az\, aki nyomon követi Óbuda-Békásmegyer Önkormányzat és a Hintalovon Gyermekjogi Alapítvány közös szervezésű gyermekjogi előadásait. \nEzúttal azonban a korábbinál is átfogóbb képet próbálunk nyújtani\, már csak a mobiltelefonok és okoseszközök iskolai használatát korlátozó törvény kavarta viharok okán is. \n  \nA Digitális gyermekkor – az iskolai mobilkorlátozás tükrében című előadás különlegessége\, hogy a Hintalovon felnőtt szakemberei mellett az alapítvány két Kiskorú Kollégája is jelen lesz\, hogy elmondja véleményét a korosztályukat érintő kérdésekben. \n  \nA beszélgetésen többek között az alábbi felvetésekre keresnek válaszokat a szakemberek: \n\nMilyen hatással vannak az okoseszközök a gyerekekre?\nHogyan hat a gyerekek mentális egészségére az online jelenlét?\nMit kell tudni az Egészségügyi Világszervezet (WHO) életkori ajánlásairól?\nMegoldás lehet-e a teljes tiltás?\nAz okoseszközök korlátozása az iskolákban valóban megelőzi az iskolai bántalmazást?\nMilyen jogai vannak a gyerekeknek ebben a helyzetben?\nAz offline iskola a jövő?\nÉs mit gondolnak erről a leginkább érdekeltek\, a gyerekek?\n\n  \nAz előadáson való részvétel ingyenes! \n  \nSzívesen látunk mindenkit\, aki úgy érzi\, szülőként\, pedagógusként vagy felelős felnőttként\, hogy a téma felsorolt (vagy fel nem sorolt) kérdései foglalkoztatják\, esetleg támogatásra lenne szüksége abban\, hogyan kommunikáljon megfelelően gyerekekkel minderről. És persze diákokat is szívesen látunk\, hiszen az ő véleményük is nagyon fontos a témában. \n  \nCélunk\, hogy a felvetett kérdésekre adott válaszokat minél több szülőhöz\, felelős felnőtthöz eljuttassuk\, és így együtt tegyünk a gyerekek biztonságáért és jóllétéért. Az előadások mellett lesz lehetőség kérdésekre\, beszélgetésre is a témában. \n  \nTartsanak velünk\, kérdezzenek bátran. Segítünk. \n  \nÓbuda-Békásmegyer Önkormányzat és a Hintalovon Gyermekjogi Alapítvány közötti együttműködés célja a harmadik kerületi gyermekvédelmi rendszer megerősítése\, ennek egy újabb lépcsője lehet ez az alkalom\, ahol sok fontos kérdésükre kaphatnak választ. Csatlakozzanak minél többen\, várjuk Önöket szeretettel.
URL:https://obuda.hu/esemeny/digitalis-gyermekkor-az-iskolai-mobilkorlatozas-tukreben/
LOCATION:Esernyős\, Szindbád Rendezvényterem\, Fő tér 2.\, Budapest\, 1033\, Magyarország
ATTACH;FMTTYPE=image/png:https://obuda.hu/wp-content/uploads/2024/09/hintalovon_mobil_2024_10_02_hero.png
END:VEVENT
END:VCALENDAR