BEGIN:VCALENDAR
VERSION:2.0
PRODID:-//Obuda.hu - ECPv6.11.2//NONSGML v1.0//EN
CALSCALE:GREGORIAN
METHOD:PUBLISH
X-WR-CALNAME:Obuda.hu
X-ORIGINAL-URL:https://obuda.hu
X-WR-CALDESC:Events for Obuda.hu
REFRESH-INTERVAL;VALUE=DURATION:PT1H
X-Robots-Tag:noindex
X-PUBLISHED-TTL:PT1H
BEGIN:VTIMEZONE
TZID:Europe/Budapest
BEGIN:DAYLIGHT
TZOFFSETFROM:+0100
TZOFFSETTO:+0200
TZNAME:CEST
DTSTART:20230326T010000
END:DAYLIGHT
BEGIN:STANDARD
TZOFFSETFROM:+0200
TZOFFSETTO:+0100
TZNAME:CET
DTSTART:20231029T010000
END:STANDARD
END:VTIMEZONE
BEGIN:VEVENT
DTSTART;TZID=Europe/Budapest:20231219T170000
DTEND;TZID=Europe/Budapest:20231219T174500
DTSTAMP:20260426T052758
CREATED:20231130T143519Z
LAST-MODIFIED:20231130T143519Z
UID:41029-1703005200-1703007900@obuda.hu
SUMMARY:Fejlesztő foglalkozás Pollival a terápiás kutyával
DESCRIPTION:Minden kedden 17.00-17.45  \nJátékos\, több irányú fejlesztő tevékenység\, lazítás\, stresszoldás\, élménykutyázás! Elmélyülés a kutyák világában és rengeteg pozitív élmény vár benneteket sok játékkal.  \nÁr: 45 perces foglalkozás 10 fős csoportban\, 3000\,- Ft./fő  \nA foglalkozást vezeti: Léczfalvi Kinga terápiás kutyás foglalkozásvezető és Polli a terápiás kutya  \nKapcsolat: kleczfalvi@gmail.com  \nTelefon: +36205485353  \n 
URL:https://obuda.hu/esemeny/fejleszto-foglalkozas-pollival-a-terapias-kutyaval-13/
LOCATION:Óbudai Platán Könyvtár\, Arató Emil tér 1\, Budapest\, 1031\, Magyarország
ATTACH;FMTTYPE=image/jpeg:https://obuda.hu/wp-content/uploads/2023/01/mesesarok_pollival_kis_kep-1-jpg.webp
END:VEVENT
END:VCALENDAR