BEGIN:VCALENDAR
VERSION:2.0
PRODID:-//Obuda.hu - ECPv6.11.2//NONSGML v1.0//EN
CALSCALE:GREGORIAN
METHOD:PUBLISH
X-WR-CALNAME:Obuda.hu
X-ORIGINAL-URL:https://obuda.hu
X-WR-CALDESC:Events for Obuda.hu
REFRESH-INTERVAL;VALUE=DURATION:PT1H
X-Robots-Tag:noindex
X-PUBLISHED-TTL:PT1H
BEGIN:VTIMEZONE
TZID:Europe/Budapest
BEGIN:DAYLIGHT
TZOFFSETFROM:+0100
TZOFFSETTO:+0200
TZNAME:CEST
DTSTART:20260329T010000
END:DAYLIGHT
BEGIN:STANDARD
TZOFFSETFROM:+0200
TZOFFSETTO:+0100
TZNAME:CET
DTSTART:20261025T010000
END:STANDARD
END:VTIMEZONE
BEGIN:VEVENT
DTSTART;TZID=Europe/Budapest:20260409T080000
DTEND;TZID=Europe/Budapest:20260428T090000
DTSTAMP:20260426T003412
CREATED:20260409T132019Z
LAST-MODIFIED:20260409T132019Z
UID:72405-1775721600-1777366800@obuda.hu
SUMMARY:Fotókba zárt világ – Rötzer Henrik az objektív mögött - szabadtéri kiállítás
DESCRIPTION:A fényképezés 1839-es feltalálása óta a fotó a múlt megismerésének egyik leghitelesebb forrása. Míg ma bárki bármit lefotózhat a mobiljával\, a 20. század elején az amatőr fotózás még egyet jelentett az egyéni önkifejezéssel és a művészi igénnyel. Az ekkor született képek mára pótolhatatlan kincsekké váltak közgyűjteményeinkben. \nAz Óbudán és Csillaghegyen élt Rötzer Henrik is ezek közé az elkötelezett amatőrök közé tartozott. „Másodállásban”\, évtizedeken át örökítette meg a változó világot: precíz\, fekete-fehér felvételein szinte megelevenedik a múlt. \n \nKiállításunkkal Rötzer Henrik életműve előtt tisztelgünk\, egyúttal felhívjuk a figyelmet azokra az amatőr alkotókra\, akik mindennapi munkájukkal ma is az utókor számára mentik át a jelent. \n\n(Fotó: Rötzer Henrik portréja\, Óbudai Múzeum) \nA szabadtéri kiállítás április 9-től 28-ig látható a Kórház utcában. (Kórház utca 1.)
URL:https://obuda.hu/esemeny/fotokba-zart-vilag-rotzer-henrik-az-objektiv-mogott-szabadteri-kiallitas/
LOCATION:Kórház utcai szabadtéri kiállítás\, Kórház utca\, Budapest\, 1033
ATTACH;FMTTYPE=image/jpeg:https://obuda.hu/wp-content/uploads/2026/04/rotzer-tablo-vagott-scaled.webp
END:VEVENT
END:VCALENDAR