BEGIN:VCALENDAR
VERSION:2.0
PRODID:-//Obuda.hu - ECPv6.11.2//NONSGML v1.0//EN
CALSCALE:GREGORIAN
METHOD:PUBLISH
X-WR-CALNAME:Obuda.hu
X-ORIGINAL-URL:https://obuda.hu
X-WR-CALDESC:Events for Obuda.hu
REFRESH-INTERVAL;VALUE=DURATION:PT1H
X-Robots-Tag:noindex
X-PUBLISHED-TTL:PT1H
BEGIN:VTIMEZONE
TZID:Europe/Budapest
BEGIN:DAYLIGHT
TZOFFSETFROM:+0100
TZOFFSETTO:+0200
TZNAME:CEST
DTSTART:20250330T010000
END:DAYLIGHT
BEGIN:STANDARD
TZOFFSETFROM:+0200
TZOFFSETTO:+0100
TZNAME:CET
DTSTART:20251026T010000
END:STANDARD
END:VTIMEZONE
BEGIN:VEVENT
DTSTART;TZID=Europe/Budapest:20250914T103000
DTEND;TZID=Europe/Budapest:20250914T114500
DTSTAMP:20260425T182021
CREATED:20250804T094520Z
LAST-MODIFIED:20250804T094520Z
UID:59272-1757845800-1757850300@obuda.hu
SUMMARY:Goldberger Leó élete – Előadás\, beszélgetés Guba Ildikó szerzővel az Ars Sacra Fesztivál keretében
DESCRIPTION:Guba Ildikó szerzőnél talán senki sem ismeri jobban Goldberger Leót\, akinek élettörténetét többéves kutatómunkával összegezte „A halál nem program” című könyvében. Könyve egyszerre igényes szakmunka\, valamint érdekfeszítő és megrendítő olvasmány. \nAz Ars Sacra keretében a két világháború közti időszak gazdasági- és közéletének e kiemelkedő\, a „Goli” világhírnevét megalkotó személyét mutatja be az érdeklődőknek\, akik így nem csupán a zseniális\, de néha rideg pénzembert\, hanem a gondokkal küzdő családapát és férjet\, a helyi zsidó közösség mecénását is megismerhetik. \nHelyszín: a Goldberger Textilipari Gyűjtemény A Goldberger… c. kiállításának 4. terme\nIdőpont: szeptember 14.\, vasárnap 10.30 – 11.45\nMax. létszám: 25 fő\nTartja: Guba Ildikó kultúrtörténész\, szerző\nRegisztráció:  https://app.minup.io/book/obudai-muzeum/events/3bc35840-6a21-4bc3-830b-84bc27cd8ad5 \nAugusztus 6-tól foglalható. \nAdatvédelmi szabályainkról (GDPR) itt tájékozódhat: https://goldbergermuzeum.hu/wp-content/uploads/kozerdeku_informaciok/om_adatkezelesi_tajekoztato_202308.pdf
URL:https://obuda.hu/esemeny/goldberger-leo-elete-eloadas-beszelgetes-guba-ildiko-szerzovel-az-ars-sacra-fesztival-kereteben/
LOCATION:Óbudai Múzeum – Goldberger Textilipari Gyűjtemény
ATTACH;FMTTYPE=image/jpeg:https://obuda.hu/wp-content/uploads/2024/08/guba-ildi-vezeteshez-jpg.webp
ORGANIZER;CN="%C3%93budai M%C3%BAzeum - Goldberger Textilipari Gy%C5%B1jtem%C3%A9ny":MAILTO:info@obudaimuzeum.hu
END:VEVENT
END:VCALENDAR