BEGIN:VCALENDAR
VERSION:2.0
PRODID:-//Obuda.hu - ECPv6.11.2//NONSGML v1.0//EN
CALSCALE:GREGORIAN
METHOD:PUBLISH
X-WR-CALNAME:Obuda.hu
X-ORIGINAL-URL:https://obuda.hu
X-WR-CALDESC:Events for Obuda.hu
REFRESH-INTERVAL;VALUE=DURATION:PT1H
X-Robots-Tag:noindex
X-PUBLISHED-TTL:PT1H
BEGIN:VTIMEZONE
TZID:Europe/Budapest
BEGIN:DAYLIGHT
TZOFFSETFROM:+0100
TZOFFSETTO:+0200
TZNAME:CEST
DTSTART:20250330T010000
END:DAYLIGHT
BEGIN:STANDARD
TZOFFSETFROM:+0200
TZOFFSETTO:+0100
TZNAME:CET
DTSTART:20251026T010000
END:STANDARD
END:VTIMEZONE
BEGIN:VEVENT
DTSTART;TZID=Europe/Budapest:20251220T182000
DTEND;TZID=Europe/Budapest:20251220T182000
DTSTAMP:20260425T125941
CREATED:20251106T112839Z
LAST-MODIFIED:20251106T115941Z
UID:62167-1766254800-1766254800@obuda.hu
SUMMARY:Gudics Máté
DESCRIPTION:Koncertjén többek között Charlie\, Máté Péter\, a Tátrai Band és az LGT dalait is felcsendülnek.
URL:https://obuda.hu/esemeny/gudics-mate/
LOCATION:Fő tér
ATTACH;FMTTYPE=image/png:https://obuda.hu/wp-content/uploads/2025/11/admin-ajax-4.png
END:VEVENT
END:VCALENDAR