BEGIN:VCALENDAR
VERSION:2.0
PRODID:-//Obuda.hu - ECPv6.11.2//NONSGML v1.0//EN
CALSCALE:GREGORIAN
METHOD:PUBLISH
X-WR-CALNAME:Obuda.hu
X-ORIGINAL-URL:https://obuda.hu
X-WR-CALDESC:Events for Obuda.hu
REFRESH-INTERVAL;VALUE=DURATION:PT1H
X-Robots-Tag:noindex
X-PUBLISHED-TTL:PT1H
BEGIN:VTIMEZONE
TZID:Europe/Budapest
BEGIN:DAYLIGHT
TZOFFSETFROM:+0100
TZOFFSETTO:+0200
TZNAME:CEST
DTSTART:20250330T010000
END:DAYLIGHT
BEGIN:STANDARD
TZOFFSETFROM:+0200
TZOFFSETTO:+0100
TZNAME:CET
DTSTART:20251026T010000
END:STANDARD
END:VTIMEZONE
BEGIN:VEVENT
DTSTART;TZID=Europe/Budapest:20251211T170000
DTEND;TZID=Europe/Budapest:20251211T180000
DTSTAMP:20260426T003424
CREATED:20251201T124941Z
LAST-MODIFIED:20251201T124941Z
UID:63132-1765472400-1765476000@obuda.hu
SUMMARY:Hajógyári Horizontok 4. előadás: Hidak a szigetre és azon túl – a hajógyári hidak és az Árpád híd története
DESCRIPTION:Az Óbudai Hajógyár története már a kezdetektől fogva összefonódott a szigetet Óbudával összekötő hidak történetével. A hidak a gyárnak köszönhették létezésüket\, míg az átkelők évtizedeken keresztül könnyítették meg dolgozók százainak munkába járását és a hajógyár kiszolgálását. A szigetre vezető hidak és az idén 75 éves Árpád híd is számos érdekességet tartogat az érdeklődők számára. \nHajógyári Horizontok sorozatunk 4. előadása során ezen műtárgyak építéstörténetéről\, és a hozzájuk kapcsolódó érdekességekről lesz szó. \nIdőpont: 2025. december 11.\, csütörtök 17.00 – 18.00 \nHelyszín: Óbudai Múzeum\, Egy gyár anatómiája. Az óbudai hajógyárunk története kiállítás \nTartja: Dombovári Márton történész\, az ‘Egy gyár anatómiája. Az óbudai hajógyárunk története’ kiállítás kurátora \nA részvétel ingyenes\, de regisztrációhoz kötött.\nMax. létszám: 25 fő\nRegisztráció: https://app.minup.io/book/obudai-muzeum/events/1be0be2a-735b-4a11-88c7-de6807d065dc \nAdatvédelmi szabályainkról (GDPR) itt tájékozódhat: https://obudaimuzeum.hu/wp-content/uploads/kozerdeku_informaciok/Adatkezelesi_tajekoztato_OM_20251125.pdf
URL:https://obuda.hu/esemeny/hajogyari-horizontok-4-eloadas-hidak-a-szigetre-es-azon-tul-a-hajogyari-hidak-es-az-arpad-hid-tortenete/
LOCATION:Óbudai Múzeum\, Fő tér 1.\, Budapest\, 1033
ATTACH;FMTTYPE=image/jpeg:https://obuda.hu/wp-content/uploads/2025/12/Szines-Hajogyari-Horizontok-eloadasok-iparrol-kulturarol-es-tortenelemrol-4-jpg.webp
END:VEVENT
END:VCALENDAR