BEGIN:VCALENDAR
VERSION:2.0
PRODID:-//Obuda.hu - ECPv6.11.2//NONSGML v1.0//EN
CALSCALE:GREGORIAN
METHOD:PUBLISH
X-WR-CALNAME:Obuda.hu
X-ORIGINAL-URL:https://obuda.hu
X-WR-CALDESC:Events for Obuda.hu
REFRESH-INTERVAL;VALUE=DURATION:PT1H
X-Robots-Tag:noindex
X-PUBLISHED-TTL:PT1H
BEGIN:VTIMEZONE
TZID:Europe/Budapest
BEGIN:DAYLIGHT
TZOFFSETFROM:+0100
TZOFFSETTO:+0200
TZNAME:CEST
DTSTART:20260329T010000
END:DAYLIGHT
BEGIN:STANDARD
TZOFFSETFROM:+0200
TZOFFSETTO:+0100
TZNAME:CET
DTSTART:20261025T010000
END:STANDARD
END:VTIMEZONE
BEGIN:VEVENT
DTSTART;TZID=Europe/Budapest:20260418T100000
DTEND;TZID=Europe/Budapest:20260418T110000
DTSTAMP:20260426T050141
CREATED:20260317T080034Z
LAST-MODIFIED:20260326T091212Z
UID:72078-1776506400-1776510000@obuda.hu
SUMMARY:Irodalmi játszóház
DESCRIPTION:Irodalmi játszóház: Janikovszky Éva: Örülj\, hogy fiú! Örülj\, hogy lány!  \nKözös mesés játék a 100 éve született Janikovszky Éva tiszteletére. A két mesénk erre a napra: Örülj\, hogy fiú! Örülj\, hogy lány!\nAjánlott korosztály: 5-10 éves korú gyerekek és kortalan szüleik.  \n  
URL:https://obuda.hu/esemeny/irodalmi-jatszohaz/
LOCATION:Óbudai Platán Könyvtár Ezüsthegyi Könyvtára\, Ezüsthegy u. 16.\, Budapest\, 1038\, Magyarország
ATTACH;FMTTYPE=image/png:https://obuda.hu/wp-content/uploads/2026/03/janikovszky1.png
END:VEVENT
END:VCALENDAR