BEGIN:VCALENDAR
VERSION:2.0
PRODID:-//Obuda.hu - ECPv6.11.2//NONSGML v1.0//EN
CALSCALE:GREGORIAN
METHOD:PUBLISH
X-WR-CALNAME:Obuda.hu
X-ORIGINAL-URL:https://obuda.hu
X-WR-CALDESC:Events for Obuda.hu
REFRESH-INTERVAL;VALUE=DURATION:PT1H
X-Robots-Tag:noindex
X-PUBLISHED-TTL:PT1H
BEGIN:VTIMEZONE
TZID:Europe/Budapest
BEGIN:DAYLIGHT
TZOFFSETFROM:+0100
TZOFFSETTO:+0200
TZNAME:CEST
DTSTART:20260329T010000
END:DAYLIGHT
BEGIN:STANDARD
TZOFFSETFROM:+0200
TZOFFSETTO:+0100
TZNAME:CET
DTSTART:20261025T010000
END:STANDARD
END:VTIMEZONE
BEGIN:VEVENT
DTSTART;TZID=Europe/Budapest:20260418T180000
DTEND;TZID=Europe/Budapest:20260418T200000
DTSTAMP:20260426T050407
CREATED:20260312T093659Z
LAST-MODIFIED:20260415T040014Z
UID:72052-1776535200-1776542400@obuda.hu
SUMMARY:Jótékonysági koncert - Miklósa Erika és Balázs János koncertje
DESCRIPTION:
URL:https://obuda.hu/esemeny/jotekonysagi-koncert-miklosa-erika-es-balazs-janos-koncertje/
LOCATION:Óbudai Társaskör\, Kiskorona utca 7.\, Budapest\, 1036\, Magyarország
ATTACH;FMTTYPE=image/webp:https://obuda.hu/wp-content/uploads/2026/04/Miklosa-Erika-es-Balazs-Janos.webp
END:VEVENT
END:VCALENDAR