BEGIN:VCALENDAR
VERSION:2.0
PRODID:-//Obuda.hu - ECPv6.11.2//NONSGML v1.0//EN
CALSCALE:GREGORIAN
METHOD:PUBLISH
X-WR-CALNAME:Obuda.hu
X-ORIGINAL-URL:https://obuda.hu
X-WR-CALDESC:Events for Obuda.hu
REFRESH-INTERVAL;VALUE=DURATION:PT1H
X-Robots-Tag:noindex
X-PUBLISHED-TTL:PT1H
BEGIN:VTIMEZONE
TZID:Europe/Budapest
BEGIN:DAYLIGHT
TZOFFSETFROM:+0100
TZOFFSETTO:+0200
TZNAME:CEST
DTSTART:20250330T010000
END:DAYLIGHT
BEGIN:STANDARD
TZOFFSETFROM:+0200
TZOFFSETTO:+0100
TZNAME:CET
DTSTART:20251026T010000
END:STANDARD
END:VTIMEZONE
BEGIN:VEVENT
DTSTART;TZID=Europe/Budapest:20251129T110000
DTEND;TZID=Europe/Budapest:20251129T110000
DTSTAMP:20260426T003716
CREATED:20251113T145411Z
LAST-MODIFIED:20251113T145411Z
UID:62492-1764414000-1764414000@obuda.hu
SUMMARY:Kaláka együttes - 3 székláb
DESCRIPTION:Felhangzanak többek között Kányádi Sándor\, Weöres Sándor\, Tamkó Sirató Károly\, Móra Ferenc\, Hajnal Anna verseire írott dalok a sokak által kedvelt lemezek (A pelikán; Nálatok laknak-e állatok?; Ukulele; Az én szívemben boldogok a tárgyak; Bőrönd Ödön; Madáretető) darabjai. \nA Kaláka muzsikusai bemutatják érdekes hangszereiket\, lehet együtt énekelni\, együtt szajkó módra verset mondani és még közösen muzsikálni is.
URL:https://obuda.hu/esemeny/kalaka-egyuttes-3-szeklab/
LOCATION:Fő tér
ATTACH;FMTTYPE=image/png:https://obuda.hu/wp-content/uploads/2025/11/admin-ajax-27.png
END:VEVENT
END:VCALENDAR