BEGIN:VCALENDAR
VERSION:2.0
PRODID:-//Obuda.hu - ECPv6.11.2//NONSGML v1.0//EN
CALSCALE:GREGORIAN
METHOD:PUBLISH
X-WR-CALNAME:Obuda.hu
X-ORIGINAL-URL:https://obuda.hu
X-WR-CALDESC:Events for Obuda.hu
REFRESH-INTERVAL;VALUE=DURATION:PT1H
X-Robots-Tag:noindex
X-PUBLISHED-TTL:PT1H
BEGIN:VTIMEZONE
TZID:Europe/Budapest
BEGIN:DAYLIGHT
TZOFFSETFROM:+0100
TZOFFSETTO:+0200
TZNAME:CEST
DTSTART:20250330T010000
END:DAYLIGHT
BEGIN:STANDARD
TZOFFSETFROM:+0200
TZOFFSETTO:+0100
TZNAME:CET
DTSTART:20251026T010000
END:STANDARD
END:VTIMEZONE
BEGIN:VEVENT
DTSTART;TZID=Europe/Budapest:20251221T182000
DTEND;TZID=Europe/Budapest:20251221T182000
DTSTAMP:20260425T170614
CREATED:20251105T121652Z
LAST-MODIFIED:20251106T121349Z
UID:62091-1766341200-1766341200@obuda.hu
SUMMARY:Kaláka - Szabad-e bejönni ide betlehemmel?
DESCRIPTION:A Kaláka együttes karácsonyi hangversenyének kerete ez a betlehemes játék. A műsorban elhangzanak magyar és más nemzetiségű karácsonyi népdalok\, régi egyházi énekek\, karácsonyi versekre írott Kaláka dalok. \n1987-ben jelent meg ez a lemez. Azóta járnak a Kaláka-betlehemesek adventkor „házról-házra”\, templomról-templomra\, iskoláról-iskolára\, színházról-színházra. Minden évben néhány napot határainkon túli magyarlakta vidéken töltenek\, így az eddigi kb. 600 karácsonyi előadás harmada Erdélyben\, a Partiumban\, Kárpátalján\, Vajdaságban\, a Felvidéken\, Burgenlandban\, Szlovéniában\, a horvátországi Baranyában és Csángóföldön volt\, de énekelték karácsonyi koncertjüket Bécsben\, Brüsszelben\, Bukarestben\, Szarajevóban és Zágrábban is. \nA hagyományokhoz híven ebben az évben is ellátogatnak Óbuda közönségéhez is. \nElőadják: Becze Gábor\, Gryllus Dániel\, Major Gábor és Radványi Balázs
URL:https://obuda.hu/esemeny/kalaka-szabad-e-bejonni-ide-betlehemmel-2/
LOCATION:Fő tér
ATTACH;FMTTYPE=image/png:https://obuda.hu/wp-content/uploads/2025/11/admin-ajax.png
END:VEVENT
END:VCALENDAR