BEGIN:VCALENDAR
VERSION:2.0
PRODID:-//Obuda.hu - ECPv6.11.2//NONSGML v1.0//EN
CALSCALE:GREGORIAN
METHOD:PUBLISH
X-WR-CALNAME:Obuda.hu
X-ORIGINAL-URL:https://obuda.hu
X-WR-CALDESC:Events for Obuda.hu
REFRESH-INTERVAL;VALUE=DURATION:PT1H
X-Robots-Tag:noindex
X-PUBLISHED-TTL:PT1H
BEGIN:VTIMEZONE
TZID:Europe/Budapest
BEGIN:DAYLIGHT
TZOFFSETFROM:+0100
TZOFFSETTO:+0200
TZNAME:CEST
DTSTART:20250330T010000
END:DAYLIGHT
BEGIN:STANDARD
TZOFFSETFROM:+0200
TZOFFSETTO:+0100
TZNAME:CET
DTSTART:20251026T010000
END:STANDARD
END:VTIMEZONE
BEGIN:VEVENT
DTSTART;TZID=Europe/Budapest:20251213T103000
DTEND;TZID=Europe/Budapest:20251213T113000
DTSTAMP:20260425T170852
CREATED:20251201T130115Z
LAST-MODIFIED:20251201T130115Z
UID:63136-1765621800-1765625400@obuda.hu
SUMMARY:Kalandozás a babakonyhák világában – karácsonyi különkiadás – tárlatvezetés a játékkiállításban
DESCRIPTION:A kislányok babái köré létrehozott világ\, azaz a babaház és berendezése mind anyagában\, mind kivitelezésében pontosan leképezte a felnőttek tárgyi kultúráját. A lakáskultúra és technológiai változások nyomot hagytak a játéktűzhelyeken\, csöpp bútorokon\, eszközökön is. Nyomon követjük a 20. század konyhai változásait\, és azt is megnézzük\, mi rotyogott a fazékban a különböző korszakokban\, milyen receptekkel készültek az ünnepekre\, milyen étel került a karácsonyi asztalra. \nIdőpont: 2025. december 13.\, szombat 10.30 – 11.30 \nTartja: Vészi-Polgár Mónika történész-muzeológus \nA részvétel ingyenes\, de regisztrációhoz kötött.\nRegisztráció: https://app.minup.io/book/obudai-muzeum/events/6511e405-ea2d-4976-9d1d-0f2223c41395 \nAdatvédelmi szabályainkról (GDPR) itt tájékozódhat: https://obudaimuzeum.hu/wp-content/uploads/kozerdeku_informaciok/Adatkezelesi_tajekoztato_OM_20251125.pdf
URL:https://obuda.hu/esemeny/kalandozas-a-babakonyhak-vilagaban-karacsonyi-kulonkiadas-tarlatvezetes-a-jatekkiallitasban/
LOCATION:Óbudai Múzeum\, Fő tér 1.\, Budapest\, 1033
ATTACH;FMTTYPE=image/jpeg:https://obuda.hu/wp-content/uploads/2023/06/Babakonyha-scaled.webp
END:VEVENT
END:VCALENDAR