BEGIN:VCALENDAR
VERSION:2.0
PRODID:-//Obuda.hu - ECPv6.11.2//NONSGML v1.0//EN
CALSCALE:GREGORIAN
METHOD:PUBLISH
X-WR-CALNAME:Obuda.hu
X-ORIGINAL-URL:https://obuda.hu
X-WR-CALDESC:Events for Obuda.hu
REFRESH-INTERVAL;VALUE=DURATION:PT1H
X-Robots-Tag:noindex
X-PUBLISHED-TTL:PT1H
BEGIN:VTIMEZONE
TZID:Europe/Budapest
BEGIN:DAYLIGHT
TZOFFSETFROM:+0100
TZOFFSETTO:+0200
TZNAME:CEST
DTSTART:20250330T010000
END:DAYLIGHT
BEGIN:STANDARD
TZOFFSETFROM:+0200
TZOFFSETTO:+0100
TZNAME:CET
DTSTART:20251026T010000
END:STANDARD
END:VTIMEZONE
BEGIN:VEVENT
DTSTART;TZID=Europe/Budapest:20251214T120000
DTEND;TZID=Europe/Budapest:20251214T140000
DTSTAMP:20260425T125326
CREATED:20251119T230441Z
LAST-MODIFIED:20251119T230441Z
UID:62760-1765713600-1765720800@obuda.hu
SUMMARY:Karácsonyi ajándékkészítő workshop kicsiknek és nagyoknak
DESCRIPTION:DECEMBER 6. ÉS 14. \n12:00-14:00 \nSzeretnél saját készítésű ajándékot adni szeretteidnek karácsonykor? Csatlakozz hamisítatlan karácsonyi hangulatú workshopunkhoz\, ahol szuper gyöngy karkötő és kulcstartó készítő készségekre tehetsz szert!  \nA részvétel ingyenes!
URL:https://obuda.hu/esemeny/karacsonyi-ajandekkeszito-workshop-kicsiknek-es-nagyoknak-2/
LOCATION:Esernyős\, Szindbád Rendezvényterem\, Fő tér 2.\, Budapest\, 1033\, Magyarország
ATTACH;FMTTYPE=image/jpeg:https://obuda.hu/wp-content/uploads/2025/11/Facebook_esemeny_12_6_12_14-ADVENTI-AJANDEK-KESZITO-WORKSHOP-1-jpg.webp
ORGANIZER;CN="Eserny%C5%91s %C3%93budai Kultur%C3%A1lis %C3%A9s Sport Nonprofit Kft.":MAILTO:info@esernyos.hu
END:VEVENT
END:VCALENDAR