BEGIN:VCALENDAR
VERSION:2.0
PRODID:-//Obuda.hu - ECPv6.11.2//NONSGML v1.0//EN
CALSCALE:GREGORIAN
METHOD:PUBLISH
X-WR-CALNAME:Obuda.hu
X-ORIGINAL-URL:https://obuda.hu
X-WR-CALDESC:Events for Obuda.hu
REFRESH-INTERVAL;VALUE=DURATION:PT1H
X-Robots-Tag:noindex
X-PUBLISHED-TTL:PT1H
BEGIN:VTIMEZONE
TZID:Europe/Budapest
BEGIN:DAYLIGHT
TZOFFSETFROM:+0100
TZOFFSETTO:+0200
TZNAME:CEST
DTSTART:20240331T010000
END:DAYLIGHT
BEGIN:STANDARD
TZOFFSETFROM:+0200
TZOFFSETTO:+0100
TZNAME:CET
DTSTART:20241027T010000
END:STANDARD
END:VTIMEZONE
BEGIN:VEVENT
DTSTART;TZID=Europe/Budapest:20241002T190000
DTEND;TZID=Europe/Budapest:20241002T203000
DTSTAMP:20260425T133255
CREATED:20240919T111712Z
LAST-MODIFIED:20260115T050034Z
UID:57276-1727895600-1727901000@obuda.hu
SUMMARY:KÉPZELD\, MÁR FÁJ! - CSALÁDTÖRTÉNETI UTAZÁS - felolvasószínházi est
DESCRIPTION:Felolvasóest és beszélgetés Kárpáti Judit\, író\, publicistával. \nKözreműködik Lengyel Ferenc színművész. \n“…. Amit elvettek\, azt kaptam\,\nami nincs\, az lett a van\,\nhiányból lendülő életinduló\,\nhányszor menekülhet meg\,\nakiben a lehetetlen\na legtisztább való?\nRepülő bankjegyek\,\nnagyobb vagyok\, mint a szoba\,\na ház\,\nárva gyerek gazdagsága\,\nfényszelte napos emlékeimben\nboldogság\,\négethet más jobban\,\nhogy gyerek vagyok és sír az apám?…” \nKárpáti Judit író\, publicista\, iparkultúrával foglalkozó újságíró. Írásai a Magyar Narancsban\, szaklapokban jelennek meg\, legfontosabb témái\, az emberi minőség\, a humánum\, legyen szó akár gyártósorokról\, akár a társadalom valamennyiünket érintő kérdéseiről.\nAmikor zsidó származású apai családja nyomába eredt\, sorra szólították meg felmenői\, s kibontakozott számára egy nagyon is tipikus\, ugyanakkor egészen rendkívüli közép-európai történet.\n“Ez a történet a családom története. Ugyanakkor a célom nem csupán az\, hogy a magam számára fessek tiszta képet; szeretném megmutatni másoknak is\, mit jelent közép-európai magyar zsidónak lenni\, milyen értékeket adott\, hozott a zsidóság. Ehhez a családom történetéből merítek és kutatók\, könyvek\, hiteles dokumentumok segítségével történelmi kontextusba helyezem felmenőim életét. Így érthető\, személyes történelmet láttatok\, s ezzel szándékom szerint hatással lehetek egymás jobb megértésére és elfogadására. Ez a küldetésem.”\nA családi szálak az egykori Monarchia területén kanyarognak és rajzolnak regénybe illő fordulatokat\, úgy\, hogy minden egyes szereplő – azaz családtag – külön kutatómunkát és ezzel járó\, országokon és földrészeken átívelő utazásokat követelt magának. \nProducer-dramaturgok: Blastik Noémi és Perczel Enikő.
URL:https://obuda.hu/esemeny/kepzeld-mar-faj-csaladtorteneti-utazas-felolvasoszinhazi-est/
LOCATION:Óbudai Társaskör\, Kiskorona utca 7.\, Budapest\, 1036\, Magyarország
ATTACH;FMTTYPE=image/webp:https://obuda.hu/wp-content/uploads/2025/06/Karpati-Judit-jpeg.webp
END:VEVENT
END:VCALENDAR