BEGIN:VCALENDAR
VERSION:2.0
PRODID:-//Obuda.hu - ECPv6.11.2//NONSGML v1.0//EN
CALSCALE:GREGORIAN
METHOD:PUBLISH
X-WR-CALNAME:Obuda.hu
X-ORIGINAL-URL:https://obuda.hu
X-WR-CALDESC:Events for Obuda.hu
REFRESH-INTERVAL;VALUE=DURATION:PT1H
X-Robots-Tag:noindex
X-PUBLISHED-TTL:PT1H
BEGIN:VTIMEZONE
TZID:Europe/Budapest
BEGIN:DAYLIGHT
TZOFFSETFROM:+0100
TZOFFSETTO:+0200
TZNAME:CEST
DTSTART:20240331T010000
END:DAYLIGHT
BEGIN:STANDARD
TZOFFSETFROM:+0200
TZOFFSETTO:+0100
TZNAME:CET
DTSTART:20241027T010000
END:STANDARD
END:VTIMEZONE
BEGIN:VEVENT
DTSTART;TZID=Europe/Budapest:20241003T190000
DTEND;TZID=Europe/Budapest:20241003T203000
DTSTAMP:20260425T180509
CREATED:20240902T040341Z
LAST-MODIFIED:20260115T050029Z
UID:57260-1727982000-1727987400@obuda.hu
SUMMARY:KÉT ÉVSZÁZAD ZSIDÓ KÖLTÉSZETE - ZENÉS EST GERENDÁS PÉTERREL ÉS GALKÓ BALÁZZSAL (BEMUTATÓ) - Zsidó Kulturális Napok
DESCRIPTION:Galkó Balázs és Gerendás Péter estje (BEMUTATÓ) \nA 200 év zsidó költészete című könyvből szemezgetve írt Gerendás Péter zenéket\, többek között Heltai Jenő\, Peterdi Andor\, Makai Emil\, Palágyi Lajos\, Kiss Arnold\, Pásztor Béla méltatlanul elfeledett verseire\, amelyek érdekes zenei köntösben fognak ezen az estén megszólalni Galkó Balázs prózai és Gerendás Péter zenei előadásában. \nA MAZSIKE és az Óbudai Társaskör közös rendezvénye
URL:https://obuda.hu/esemeny/ket-evszazad-zsido-kolteszete-zenes-est-gerendas-peterrel-es-galko-balazzsal-bemutato-zsido-kulturalis-napok/
LOCATION:Óbudai Társaskör\, Kiskorona utca 7.\, Budapest\, 1036\, Magyarország
ATTACH;FMTTYPE=image/webp:https://obuda.hu/wp-content/uploads/2025/06/Gerendas-Peter-jpg.webp
END:VEVENT
END:VCALENDAR