BEGIN:VCALENDAR
VERSION:2.0
PRODID:-//Obuda.hu - ECPv6.11.2//NONSGML v1.0//EN
CALSCALE:GREGORIAN
METHOD:PUBLISH
X-WR-CALNAME:Obuda.hu
X-ORIGINAL-URL:https://obuda.hu
X-WR-CALDESC:Events for Obuda.hu
REFRESH-INTERVAL;VALUE=DURATION:PT1H
X-Robots-Tag:noindex
X-PUBLISHED-TTL:PT1H
BEGIN:VTIMEZONE
TZID:Europe/Budapest
BEGIN:DAYLIGHT
TZOFFSETFROM:+0100
TZOFFSETTO:+0200
TZNAME:CEST
DTSTART:20260329T010000
END:DAYLIGHT
BEGIN:STANDARD
TZOFFSETFROM:+0200
TZOFFSETTO:+0100
TZNAME:CET
DTSTART:20261025T010000
END:STANDARD
END:VTIMEZONE
BEGIN:VEVENT
DTSTART;TZID=Europe/Budapest:20260430T180000
DTEND;TZID=Europe/Budapest:20260528T200000
DTSTAMP:20260425T200112
CREATED:20260317T104028Z
LAST-MODIFIED:20260317T104028Z
UID:71187-1777572000-1779998400@obuda.hu
SUMMARY:Kiállításmegnyitó: A hely\, ami segített…
DESCRIPTION:ÁPRILIS 30 – MÁJUS 28.\nMegnyitó: április 30. csütörtök 18:00\nHelyszín: Esernyős Galéria \nA hely\, ami segített… \na kilépésben\, a változásban\, a döntésben\, megnyugodni\, biztonságba kerülni.\nMilyen kép jut eszedbe arról\, amit átéltél\, vagy amit magad mögött hagytál?\nPhotovoice közösségi fotóprojekt a családon belüli erőszakról és a gyógyulásról.\n· A hely\, aminek története van\,\n· egy találkozás helye\,\n· egy tárgy\, egy bútor\,\n· vízpart vagy erdő\,\n· egy fontos pillanat helye\,\n· egy esemény\,\n· egy utca\, egy helyszín\,\n· egy zug vagy szeglet\,\n· égen földön valahol. \nA kiállítás Óbuda-Békásmegyer Önkormányzat és a NANE Egyesület szervezésében kerül megrendezésre.\n#ahelyamisegitett #vankepemhozza \nA részvétel ingyenes.
URL:https://obuda.hu/esemeny/kiallitasmegnyito-a-hely-ami-segitett/
LOCATION:Esernyős Galéria\, Fő tér 2.\, Budapest\, Budapest\, 1033\, Magyarország
ATTACH;FMTTYPE=image/jpeg:https://obuda.hu/wp-content/uploads/2026/03/Facebook_esemeny_04_30_NANE_A-hely-ami-segitett-jpg.webp
ORGANIZER;CN="Eserny%C5%91s %C3%93budai Kultur%C3%A1lis %C3%A9s Sport Nonprofit Kft.":MAILTO:info@esernyos.hu
END:VEVENT
END:VCALENDAR