BEGIN:VCALENDAR
VERSION:2.0
PRODID:-//Obuda.hu - ECPv6.11.2//NONSGML v1.0//EN
CALSCALE:GREGORIAN
METHOD:PUBLISH
X-WR-CALNAME:Obuda.hu
X-ORIGINAL-URL:https://obuda.hu
X-WR-CALDESC:Events for Obuda.hu
REFRESH-INTERVAL;VALUE=DURATION:PT1H
X-Robots-Tag:noindex
X-PUBLISHED-TTL:PT1H
BEGIN:VTIMEZONE
TZID:Europe/Budapest
BEGIN:DAYLIGHT
TZOFFSETFROM:+0100
TZOFFSETTO:+0200
TZNAME:CEST
DTSTART:20240331T010000
END:DAYLIGHT
BEGIN:STANDARD
TZOFFSETFROM:+0200
TZOFFSETTO:+0100
TZNAME:CET
DTSTART:20241027T010000
END:STANDARD
END:VTIMEZONE
BEGIN:VEVENT
DTSTART;TZID=Europe/Budapest:20240616T180000
DTEND;TZID=Europe/Budapest:20240616T220000
DTSTAMP:20260425T150028
CREATED:20240502T022103Z
LAST-MODIFIED:20260115T050020Z
UID:57230-1718560800-1718575200@obuda.hu
SUMMARY:KLASSZIKUSTÓL JAZZIG - az Oláh Kálmán Kvartett és a Budapesti Vonósok
DESCRIPTION:Klasszikustól jazzig – az Oláh Kálmán Kvartett és a Budapesti Vonósok \nMűsor: \nWidmann: 180 beats per minute \nDvorak: F-dúr „Amerikai” quartet op.96 \n– szünet – \nS. Bach: G-dúr Brandenburgi verseny BWV 1047 \nOláh Kálmán: 3 Sketches from Bach Cello Suites \nLegrand-Oláh K.: The windmills of your mind \nLegrand-Oláh. K.: Once upon a Summertime \njegyár: 4500 Ft \nhttps://budapestivonosok.jegy.hu/program/vi-obudai-zenezug-fesztival-klasszikustol-jazzig-olah-kalman-quartett-es-a-budapesti-vonosok-161682/1138512 \n  \n20.30 Kerti mulatság
URL:https://obuda.hu/esemeny/klasszikustol-jazzig-az-olah-kalman-kvartett-es-a-budapesti-vonosok/
LOCATION:Óbudai Társaskör\, Kiskorona utca 7.\, Budapest\, 1036\, Magyarország
ATTACH;FMTTYPE=image/webp:https://obuda.hu/wp-content/uploads/2025/06/09-Zenezug-Budapesti-Vonosok-jpg.webp
END:VEVENT
END:VCALENDAR