BEGIN:VCALENDAR
VERSION:2.0
PRODID:-//Obuda.hu - ECPv6.11.2//NONSGML v1.0//EN
CALSCALE:GREGORIAN
METHOD:PUBLISH
X-WR-CALNAME:Obuda.hu
X-ORIGINAL-URL:https://obuda.hu
X-WR-CALDESC:Events for Obuda.hu
REFRESH-INTERVAL;VALUE=DURATION:PT1H
X-Robots-Tag:noindex
X-PUBLISHED-TTL:PT1H
BEGIN:VTIMEZONE
TZID:Europe/Budapest
BEGIN:DAYLIGHT
TZOFFSETFROM:+0100
TZOFFSETTO:+0200
TZNAME:CEST
DTSTART:20240331T010000
END:DAYLIGHT
BEGIN:STANDARD
TZOFFSETFROM:+0200
TZOFFSETTO:+0100
TZNAME:CET
DTSTART:20241027T010000
END:STANDARD
END:VTIMEZONE
BEGIN:VEVENT
DTSTART;TZID=Europe/Budapest:20240615T180000
DTEND;TZID=Europe/Budapest:20240615T220000
DTSTAMP:20260425T155053
CREATED:20240502T021832Z
LAST-MODIFIED:20260115T050019Z
UID:57229-1718474400-1718488800@obuda.hu
SUMMARY:KLASSZIKUSTÓL NÉPZENÉIG - a Góbé Zenekar és a Budapesti Vonósok
DESCRIPTION:Klasszikustól népzenéig a Góbé Zenekar és a Budapesti Vonósok \nMűsor: \nBartók Béla: Divertimento \nA Góbé együttes népzenei összeállítása \n– szünet – \nErkel Ferenc: Palotás \nKodály Zoltán: Magyar Rondó \nWeiner Leó: Divertimento Nr. 2 \nBartók Béla: Magyar parasztdalok BB107 (Vizeli Máté átirata) \njegyár: 4500 Ft \nhttps://budapestivonosok.jegy.hu/program/vi-obudai-zenezug-fesztival-klasszikustol-nepzeneig-a-gobe-zenekar-es-a-budapesti-vonosok-161680/1138509 \n  \n20.30 Táncház a Góbé Együttessel \nJegyinformáció: A 18 órakor kezdődő programra váltott jegyek a Táncházra is érvényesek! \nhttps://budapestivonosok.jegy.hu/program/vi-obudai-zenezug-fesztival-tanchaz-a-gobe-zenekarral-161765/1139173
URL:https://obuda.hu/esemeny/klasszikustol-nepzeneig-a-gobe-zenekar-es-a-budapesti-vonosok/
LOCATION:Óbudai Társaskör\, Kiskorona utca 7.\, Budapest\, 1036\, Magyarország
ATTACH;FMTTYPE=image/webp:https://obuda.hu/wp-content/uploads/2025/06/09-Zenezug-Budapesti-Vonosok-jpg.webp
END:VEVENT
END:VCALENDAR