BEGIN:VCALENDAR
VERSION:2.0
PRODID:-//Obuda.hu - ECPv6.11.2//NONSGML v1.0//EN
CALSCALE:GREGORIAN
METHOD:PUBLISH
X-WR-CALNAME:Obuda.hu
X-ORIGINAL-URL:https://obuda.hu
X-WR-CALDESC:Events for Obuda.hu
REFRESH-INTERVAL;VALUE=DURATION:PT1H
X-Robots-Tag:noindex
X-PUBLISHED-TTL:PT1H
BEGIN:VTIMEZONE
TZID:Europe/Budapest
BEGIN:DAYLIGHT
TZOFFSETFROM:+0100
TZOFFSETTO:+0200
TZNAME:CEST
DTSTART:20240331T010000
END:DAYLIGHT
BEGIN:STANDARD
TZOFFSETFROM:+0200
TZOFFSETTO:+0100
TZNAME:CET
DTSTART:20241027T010000
END:STANDARD
END:VTIMEZONE
BEGIN:VEVENT
DTSTART;TZID=Europe/Budapest:20240423T170000
DTEND;TZID=Europe/Budapest:20240423T183000
DTSTAMP:20260426T011158
CREATED:20240328T135536Z
LAST-MODIFIED:20240328T135549Z
UID:43911-1713891600-1713897000@obuda.hu
SUMMARY:Közös Fonal - Hímzőkör
DESCRIPTION:április 23. 17.00\n\nHímezzünk együtt!  \nNeked is a szekrény mélyén laknak a félig kész hímzések? Kalocsai\, matyó\, beregi? Gobelin\, keresztszemes\, modern hímzés? Gyere el és mutassuk meg egymásnak a munkáinkat! Hímezzünk együtt\, miközben megosztjuk tudásunkat egy jó hangulatú társaságban. Az áprilisi téma: lassú hímzés. Az alapanyagokat biztosítjuk\, a program ingyenes.  
URL:https://obuda.hu/esemeny/kozos-fonal-himzokor-8/
LOCATION:Óbudai Platán Könyvtár\, Arató Emil tér 1\, Budapest\, 1031\, Magyarország
ATTACH;FMTTYPE=image/png:https://obuda.hu/wp-content/uploads/2024/03/ls_himzokor.png
END:VEVENT
END:VCALENDAR