BEGIN:VCALENDAR
VERSION:2.0
PRODID:-//Obuda.hu - ECPv6.11.2//NONSGML v1.0//EN
CALSCALE:GREGORIAN
METHOD:PUBLISH
X-WR-CALNAME:Obuda.hu
X-ORIGINAL-URL:https://obuda.hu
X-WR-CALDESC:Events for Obuda.hu
REFRESH-INTERVAL;VALUE=DURATION:PT1H
X-Robots-Tag:noindex
X-PUBLISHED-TTL:PT1H
BEGIN:VTIMEZONE
TZID:Europe/Budapest
BEGIN:DAYLIGHT
TZOFFSETFROM:+0100
TZOFFSETTO:+0200
TZNAME:CEST
DTSTART:20240331T010000
END:DAYLIGHT
BEGIN:STANDARD
TZOFFSETFROM:+0200
TZOFFSETTO:+0100
TZNAME:CET
DTSTART:20241027T010000
END:STANDARD
END:VTIMEZONE
BEGIN:VEVENT
DTSTART;TZID=Europe/Budapest:20240228T170000
DTEND;TZID=Europe/Budapest:20240228T190000
DTSTAMP:20260425T180337
CREATED:20240205T144302Z
LAST-MODIFIED:20240205T144302Z
UID:42486-1709139600-1709146800@obuda.hu
SUMMARY:Közösségi Költségvetés 2024\, lakossági fórum\, Csillaghegy
DESCRIPTION:Indul a Közösségi Költségvetés 2024 javaslattételi szakasza!\nMint 2020 óta minden évben\, idén is várjuk ötleteiket\, javaslataikat\, miként tehetnénk még szebbé\, még élhetőbbé szívünknek oly’ kedves lakóhelyünket\, a III. kerületet. Közös érdekünk\, hogy a rendelkezésre álló 100 millió forintot a lehető legokosabban\, nagy körültekintéssel\, átgondoltan költsük el – erre a közös gondolkodásra kínálnak remek alkalmakat a lakossági fórumok.\nEzeken az alkalmakon lehetőséget kívánunk teremteni arra\, hogy az itt élők az elképzeléseiket megvitathassák\, és betekintést nyerhessenek a Közösségi Költségvetés folyamataiba ötlettől megvalósulásig.\nEgy-egy ilyen alkalom során nemcsak közös ötletelésre lesz lehetőség\, hanem az előző évekhez hasonlóan a Transparency International Magyarország által bevezetett\, erre a célra fejlesztett oktató kártyajáték segítségével minél több szempontot figyelembe véve tudnak majd a résztvevők fejlesztési javaslatokat tenni.\nRendkívül értékes tudásra és hasznos tapasztalatokra tehetnek szert így az itt élők\, és számos\, a megvalósíthatóság sokféle szempontjának is garantáltan megfelelő\, jó ötlet születik ezeken a workshopokon.\nTartsanak velünk idén is\, beszélgessünk\, vitázzunk\, játsszunk\, döntsünk közösen! Várjuk Önöket szeretettel a Csillaghegyi Közösségi Házban.\nA mi otthonunk\, a mi döntésünk.\n2024. február 28.\, szerda\, 17:00-19:00\nCsillaghegyi Kulturális Központ\n1039 Budapest\, Mátyás király út 13–15.
URL:https://obuda.hu/esemeny/kozossegi-koltsegvetes-2024-lakossagi-forum-csillaghegy/
LOCATION:Csillaghegyi Közösségi Ház\, Mátyás király út 11-15.\, Budapest\, 1033
ATTACH;FMTTYPE=image/png:https://obuda.hu/wp-content/uploads/2024/02/KKTSV2024_forum4_hero.png
END:VEVENT
END:VCALENDAR