BEGIN:VCALENDAR
VERSION:2.0
PRODID:-//Obuda.hu - ECPv6.11.2//NONSGML v1.0//EN
CALSCALE:GREGORIAN
METHOD:PUBLISH
X-WR-CALNAME:Obuda.hu
X-ORIGINAL-URL:https://obuda.hu
X-WR-CALDESC:Events for Obuda.hu
REFRESH-INTERVAL;VALUE=DURATION:PT1H
X-Robots-Tag:noindex
X-PUBLISHED-TTL:PT1H
BEGIN:VTIMEZONE
TZID:Europe/Budapest
BEGIN:DAYLIGHT
TZOFFSETFROM:+0100
TZOFFSETTO:+0200
TZNAME:CEST
DTSTART:20260329T010000
END:DAYLIGHT
BEGIN:STANDARD
TZOFFSETFROM:+0200
TZOFFSETTO:+0100
TZNAME:CET
DTSTART:20261025T010000
END:STANDARD
END:VTIMEZONE
BEGIN:VEVENT
DTSTART;TZID=Europe/Budapest:20260414T090000
DTEND;TZID=Europe/Budapest:20260414T140000
DTSTAMP:20260426T050059
CREATED:20260317T080754Z
LAST-MODIFIED:20260326T091248Z
UID:72080-1776157200-1776175200@obuda.hu
SUMMARY:Látogatóból könyvtáros
DESCRIPTION:A Könyvtárosok Világnapja alkalmából látogatóink 2026. április 14-én 9-14 óra között szerepet cserélhetnek velünk. Kipróbálhatják\, milyen könyvtárosként dolgozni\, könyveket kölcsönözni\, olvasmányokat ajánlani és egymásnak segíteni. 
URL:https://obuda.hu/esemeny/latogatobol-konyvtaros-2/
LOCATION:Óbudai Platán Könyvtár Ezüsthegyi Könyvtára\, Ezüsthegy u. 16.\, Budapest\, 1038\, Magyarország
ATTACH;FMTTYPE=image/jpeg:https://obuda.hu/wp-content/uploads/2026/03/ls_latogatobol_konyvtaros-jpg.webp
END:VEVENT
END:VCALENDAR