BEGIN:VCALENDAR
VERSION:2.0
PRODID:-//Obuda.hu - ECPv6.11.2//NONSGML v1.0//EN
CALSCALE:GREGORIAN
METHOD:PUBLISH
X-WR-CALNAME:Obuda.hu
X-ORIGINAL-URL:https://obuda.hu
X-WR-CALDESC:Events for Obuda.hu
REFRESH-INTERVAL;VALUE=DURATION:PT1H
X-Robots-Tag:noindex
X-PUBLISHED-TTL:PT1H
BEGIN:VTIMEZONE
TZID:Europe/Budapest
BEGIN:DAYLIGHT
TZOFFSETFROM:+0100
TZOFFSETTO:+0200
TZNAME:CEST
DTSTART:20250330T010000
END:DAYLIGHT
BEGIN:STANDARD
TZOFFSETFROM:+0200
TZOFFSETTO:+0100
TZNAME:CET
DTSTART:20251026T010000
END:STANDARD
END:VTIMEZONE
BEGIN:VEVENT
DTSTART;TZID=Europe/Budapest:20251211T190000
DTEND;TZID=Europe/Budapest:20251211T210000
DTSTAMP:20260426T020444
CREATED:20251119T225612Z
LAST-MODIFIED:20251119T225612Z
UID:62750-1765479600-1765486800@obuda.hu
SUMMARY:Mindset Pszichológia: Különbözőségből érték\, neurodiverzitás a családban
DESCRIPTION:2025. 12. 11. csütörtök 19:00-21:00 \nHelyszín: Szindbád Rendezvényterem \n  \nKövetkező eseményünk célja\, hogy komplex módon mutassuk be azon személyek életét\, akik idegrendszeri működésük miatt más módon tanulnak\, gondolkodnak\, viselkednek. Előadók: Varga Virág (neuroaffirmatív szemléletű pszichológus)\, Gömbösné Hideg Viktória (producer\, szülő)\, Joó Gábor (színész\, szinkronszínész\, szinkronrendező ) \n19:00-19:30 között a témát bemutató előadással kezdünk. 19:30-20:15 között kerekasztal-beszélgetés formájában igyekszünk több nézőpont bevonásával rámutatni a téma társadalmi komplexitására. 20:15-21:00 a Legbelső szív című kisfilm vetítése. \nA film forgatókönyvírója Olivér 21 éves\, ép értelmű autista\, aki művészetterápiaként is használja a forgatókönyvírást\, a történet- és versírást. Édesanyja\, Gömbösné Hideg Viktória személyi segítőjeként éppen a munkavállalási esélyteremtése miatt kezdett el olyan szervezeteket\, vállalkozásokat keresni\, ahol Olivér kihasználhatja a képességeit\, kreativitását\, és mindenféle kisegítő- és alkotó munkában.  \nAz előadásban szót ejtünk arról miként változik a többségi társadalom hozzáállása és a neurodivergensek identitása az utóbbi évtizedekben. Kitérünk iskolai\, munkahelyi kérdésekre. Majd a családi szintre: milyen a támogató környezet\, milyen nehézségek merülhetnek fel\, mik a jó megküzdési módok. Az előadást Varga Virág neuroaffirmatív szemléletű pszichológus\, képzésben lévő rendszerszemléletű család- és párterapeuta tartja. \nJegyárak:  \nElővételben: 2.300.- \nKedvezményes (diák\, nyugdíjas\, pedagógus): 2.500.- \nHelyszínen: 2.800.- \nJegyek: \nhttps://www.tixa.hu/kulonbozosegbol-ertek-neurodiverzitas-a-csaladban-esernyos-20251211
URL:https://obuda.hu/esemeny/mindset-pszichologia-kulonbozosegbol-ertek-neurodiverzitas-a-csaladban/
LOCATION:Esernyős\, Szindbád Rendezvényterem\, Fő tér 2.\, Budapest\, 1033\, Magyarország
ATTACH;FMTTYPE=image/jpeg:https://obuda.hu/wp-content/uploads/2025/11/1920_1005_event-1-jpg.webp
ORGANIZER;CN="Eserny%C5%91s %C3%93budai Kultur%C3%A1lis %C3%A9s Sport Nonprofit Kft.":MAILTO:info@esernyos.hu
END:VEVENT
END:VCALENDAR