BEGIN:VCALENDAR
VERSION:2.0
PRODID:-//Obuda.hu - ECPv6.11.2//NONSGML v1.0//EN
CALSCALE:GREGORIAN
METHOD:PUBLISH
X-WR-CALNAME:Obuda.hu
X-ORIGINAL-URL:https://obuda.hu
X-WR-CALDESC:Events for Obuda.hu
REFRESH-INTERVAL;VALUE=DURATION:PT1H
X-Robots-Tag:noindex
X-PUBLISHED-TTL:PT1H
BEGIN:VTIMEZONE
TZID:Europe/Budapest
BEGIN:DAYLIGHT
TZOFFSETFROM:+0100
TZOFFSETTO:+0200
TZNAME:CEST
DTSTART:20250330T010000
END:DAYLIGHT
BEGIN:STANDARD
TZOFFSETFROM:+0200
TZOFFSETTO:+0100
TZNAME:CET
DTSTART:20251026T010000
END:STANDARD
END:VTIMEZONE
BEGIN:VEVENT
DTSTART;TZID=Europe/Budapest:20251206T110000
DTEND;TZID=Europe/Budapest:20251206T120000
DTSTAMP:20260425T132505
CREATED:20251201T114615Z
LAST-MODIFIED:20251201T115512Z
UID:63118-1765018800-1765022400@obuda.hu
SUMMARY:„MúzeumSzombat” – Retro karácsony. Ennek örültünk a fa alatt a ’60-80-as években – tárlatvezetés a játékkiállításban
DESCRIPTION:Mi az ünnep funkciója az életünkben? Hogyan alakult át a kádárizmusban a karácsonyi ünneplés kultúrája\, szokásai? Milyen játékokra vágytunk a fa alatt?\nHoldrakéta\, Jáva építőkészlet\, pedálos moszkvics\, Schenk lovagvár\, TV Maci\, távirányítós autó\, csehszlovák bababútor\, moncsicsi és még számtalan játékszer\, már ha éppen nem volt hiánycikk.\nA szerencsésebbek külföldi rokonoktól vagy a dollárboltból megkapták életük első LEGO-ját vagy Barbie babáját. Játékkiállításunk műtárgyai között megkeressük azokat az emblematikus játékszereket\, amelyeket csillogó szemmel vártunk a Jézuskától vagy a Télapótól az 1960-80-as években.\nAz ünnepvárásban és a megfelelő ajándék kiválasztásában korabeli karácsonyi filmhíradók is segítenek. \nTartja: Vészi-Polgár Mónika történész-muzeológus \nIdőpont: 2025. december 6.\, szombat 11.00 – 12.00 \nA részvétel ingyenes\, de regisztrációhoz kötött.\nRegisztráció: https://app.minup.io/book/obudai-muzeum/events/7fd0f249-cdaf-432a-b949-e38c731d655b \nAdatvédelmi szabályainkról (GDPR) itt tájékozódhat: https://obudaimuzeum.hu/wp-content/uploads/kozerdeku_informaciok/Adatkezelesi_tajekoztato_OM_20251125.pdf
URL:https://obuda.hu/esemeny/muzeumszombat-retro-karacsony-ennek-orultunk-a-fa-alatt-a-60-80-as-evekben-tarlatvezetes-a-jatekkiallitasban-2/
LOCATION:Óbudai Múzeum\, Fő tér 1.\, Budapest\, 1033
ATTACH;FMTTYPE=image/jpeg:https://obuda.hu/wp-content/uploads/2024/11/DSC_9698-jpg.webp
END:VEVENT
END:VCALENDAR