BEGIN:VCALENDAR
VERSION:2.0
PRODID:-//Obuda.hu - ECPv6.11.2//NONSGML v1.0//EN
CALSCALE:GREGORIAN
METHOD:PUBLISH
X-WR-CALNAME:Obuda.hu
X-ORIGINAL-URL:https://obuda.hu
X-WR-CALDESC:Events for Obuda.hu
REFRESH-INTERVAL;VALUE=DURATION:PT1H
X-Robots-Tag:noindex
X-PUBLISHED-TTL:PT1H
BEGIN:VTIMEZONE
TZID:Europe/Budapest
BEGIN:DAYLIGHT
TZOFFSETFROM:+0100
TZOFFSETTO:+0200
TZNAME:CEST
DTSTART:20250330T010000
END:DAYLIGHT
BEGIN:STANDARD
TZOFFSETFROM:+0200
TZOFFSETTO:+0100
TZNAME:CET
DTSTART:20251026T010000
END:STANDARD
END:VTIMEZONE
BEGIN:VEVENT
DTSTART;TZID=Europe/Budapest:20251213T182000
DTEND;TZID=Europe/Budapest:20251213T182000
DTSTAMP:20260425T061540
CREATED:20251106T124507Z
LAST-MODIFIED:20251203T091938Z
UID:62218-1765650000-1765650000@obuda.hu
SUMMARY:Muzsikás együttes és vendégeik
DESCRIPTION:A több mint öt évtizede alakult Muzsikás\, a világszerte legismertebb magyar népzenei együttes\, amelynek elsőként sikerült elfogadtatnia a magyar népzenét\, mint önálló\, minden más műfajjal egyenértékű zenei stílust. Az autentikus magyar népzenét rendkívüli élménnyé teszik\, követve a legkiválóbb falusi zenészek hagyományos előadásmódját és improvizációs stílusát\, mindezt egyedi\, csak a Muzsikásra jellemző stílusban. \n  \nNyitókép fotó: Kása Béla
URL:https://obuda.hu/esemeny/muzsikas-egyuttes-es-vendegeik/
LOCATION:Fő tér
ATTACH;FMTTYPE=image/jpeg:https://obuda.hu/wp-content/uploads/2025/11/DSC3211-scaled.webp
END:VEVENT
END:VCALENDAR