BEGIN:VCALENDAR
VERSION:2.0
PRODID:-//Obuda.hu - ECPv6.11.2//NONSGML v1.0//EN
CALSCALE:GREGORIAN
METHOD:PUBLISH
X-WR-CALNAME:Obuda.hu
X-ORIGINAL-URL:https://obuda.hu
X-WR-CALDESC:Events for Obuda.hu
REFRESH-INTERVAL;VALUE=DURATION:PT1H
X-Robots-Tag:noindex
X-PUBLISHED-TTL:PT1H
BEGIN:VTIMEZONE
TZID:Europe/Budapest
BEGIN:DAYLIGHT
TZOFFSETFROM:+0100
TZOFFSETTO:+0200
TZNAME:CEST
DTSTART:20250330T010000
END:DAYLIGHT
BEGIN:STANDARD
TZOFFSETFROM:+0200
TZOFFSETTO:+0100
TZNAME:CET
DTSTART:20251026T010000
END:STANDARD
END:VTIMEZONE
BEGIN:VEVENT
DTSTART;TZID=Europe/Budapest:20250524T080000
DTEND;TZID=Europe/Budapest:20250524T160000
DTSTAMP:20260425T191832
CREATED:20250507T131322Z
LAST-MODIFIED:20250507T131403Z
UID:54763-1748073600-1748102400@obuda.hu
SUMMARY:Nyári muskátli vásár
DESCRIPTION:Önkormányzatunk ebben az évben is meghirdeti kedvezményes muskátlivásárát\, melyen nagyon kedvezményes áron juthatnak jó minőségű\, szép állómuskátlihoz.  A vásárt a  kerület hét helyszínén tartjuk. \nVásárlásra jogosultak: A kerületben bejelentett lakóhellyel (állandó lakcímmel) rendelkező\, nagykorú lakosok. \nA vásárolható mennyiség: 4 tő muskátli/fő\, amelynek vételára 200 Ft. \nA jogosultság igazolása: A kedvezmény igénybevételéhez saját névre szóló\, érvényes személyi igazolvány és lakcímkártya felmutatása szükséges. \nFigyelem! Az igazságosabb elosztás érdekében kérjük a fentiek betartását. A visszaélések elkerüléséért a lakcímkártyák sorszámát az akció időtartamáig rögzítjük. A kiszolgálás érkezési sorrendben történik. Köszönjük megértésüket. \nAz akció 2025. május 24-én (szombat) 8.00 órától a készlet erejéig\, de legkésőbb 16.00 óráig tart. \nA kedvezményes muskátlivásár helyszínei: \n\nBékásmegyeri Közösségi Ház – 1039 Budapest\, Csobánka tér 5. (a Rendelőintézet és a Kertmozi közötti terület)\nÓbudai Családi Tanácsadó és Gyermekvédelmi Központ – 1039 Budapest\, Kelta utca 5.\nCsillaghegyi Közösségi Ház – 1039 Budapest\, Mátyás király út 13-15.\nKaszásdűlői Kulturális Központ – 1033 Budapest\, Pethe Ferenc tér 2.\nVárosüzemeltetés telephelye – 1031 Budapest\, Pók utca 1.\nÓbudai Kulturális Központ – 1032 Budapest\, San Marco utca 81.\nMókus utca – Tanuló utca közötti terület
URL:https://obuda.hu/esemeny/nyari-muskatli-vasar/
ATTACH;FMTTYPE=image/png:https://obuda.hu/wp-content/uploads/2025/04/muskatlivasar_hero1.png
END:VEVENT
END:VCALENDAR