BEGIN:VCALENDAR
VERSION:2.0
PRODID:-//Obuda.hu - ECPv6.11.2//NONSGML v1.0//EN
CALSCALE:GREGORIAN
METHOD:PUBLISH
X-WR-CALNAME:Obuda.hu
X-ORIGINAL-URL:https://obuda.hu
X-WR-CALDESC:Events for Obuda.hu
REFRESH-INTERVAL;VALUE=DURATION:PT1H
X-Robots-Tag:noindex
X-PUBLISHED-TTL:PT1H
BEGIN:VTIMEZONE
TZID:Europe/Budapest
BEGIN:DAYLIGHT
TZOFFSETFROM:+0100
TZOFFSETTO:+0200
TZNAME:CEST
DTSTART:20240331T010000
END:DAYLIGHT
BEGIN:STANDARD
TZOFFSETFROM:+0200
TZOFFSETTO:+0100
TZNAME:CET
DTSTART:20241027T010000
END:STANDARD
END:VTIMEZONE
BEGIN:VEVENT
DTSTART;TZID=Europe/Budapest:20240312T163000
DTEND;TZID=Europe/Budapest:20240312T183000
DTSTAMP:20260425T221154
CREATED:20240216T135938Z
LAST-MODIFIED:20240221T094253Z
UID:42774-1710261000-1710268200@obuda.hu
SUMMARY:Nyitottan az irodalomra-Platán olvasókör
DESCRIPTION:március 12.  16.30\n\nHa egy jó könyv elolvasása után gondolataidat megosztanád egy olyan társaságban\, amit a könyvek szeretete hozott össze\, akkor köztünk a helyed! Beszéljük ki együtt aktuális kedvenceinket! Az olvasókörünk minden érdeklődő számára szabadon látogatható! A februári alkalom témája: Madách Imre: Az ember tragédiája című könyve. A program ingyenes\, de regisztrációhoz kötött!  \nRegisztráció: rendezveny@platankonyvtar.hu     \n 
URL:https://obuda.hu/esemeny/nyitottan-az-irodalomra-platan-olvasokor-11/
LOCATION:Óbudai Platán Könyvtár\, Arató Emil tér 1\, Budapest\, 1031\, Magyarország
ATTACH;FMTTYPE=image/png:https://obuda.hu/wp-content/uploads/2024/02/ls_madach.png
END:VEVENT
END:VCALENDAR