BEGIN:VCALENDAR
VERSION:2.0
PRODID:-//Obuda.hu - ECPv6.11.2//NONSGML v1.0//EN
CALSCALE:GREGORIAN
METHOD:PUBLISH
X-WR-CALNAME:Obuda.hu
X-ORIGINAL-URL:https://obuda.hu
X-WR-CALDESC:Events for Obuda.hu
REFRESH-INTERVAL;VALUE=DURATION:PT1H
X-Robots-Tag:noindex
X-PUBLISHED-TTL:PT1H
BEGIN:VTIMEZONE
TZID:Europe/Budapest
BEGIN:DAYLIGHT
TZOFFSETFROM:+0100
TZOFFSETTO:+0200
TZNAME:CEST
DTSTART:20240331T010000
END:DAYLIGHT
BEGIN:STANDARD
TZOFFSETFROM:+0200
TZOFFSETTO:+0100
TZNAME:CET
DTSTART:20241027T010000
END:STANDARD
END:VTIMEZONE
BEGIN:VEVENT
DTSTART;TZID=Europe/Budapest:20240618T163000
DTEND;TZID=Europe/Budapest:20240618T183000
DTSTAMP:20260425T192418
CREATED:20240605T111722Z
LAST-MODIFIED:20240605T111722Z
UID:46442-1718728200-1718735400@obuda.hu
SUMMARY:Nyitottan az irodalomra - Platán olvasókör
DESCRIPTION:június 18. 16.30\n\nHa egy jó könyv elolvasása után gondolataidat megosztanád egy olyan társaságban\, amit a könyvek szeretete hozott össze\, akkor köztünk a helyed! Beszéljük ki együtt aktuális kedvenceinket! Az olvasókörünk minden érdeklődő számára szabadon látogatható! Az júniusi alkalom témája: Boris Vian művei. A program ingyenes\, de regisztrációhoz kötött!  \nRegisztráció: rendezveny@platankonyvtar.hu 
URL:https://obuda.hu/esemeny/nyitottan-az-irodalomra-platan-olvasokor-14/
LOCATION:Óbudai Platán Könyvtár\, Arató Emil tér 1\, Budapest\, 1031\, Magyarország
ATTACH;FMTTYPE=image/png:https://obuda.hu/wp-content/uploads/2024/06/ls_olvasokor.png
END:VEVENT
END:VCALENDAR