BEGIN:VCALENDAR
VERSION:2.0
PRODID:-//Obuda.hu - ECPv6.11.2//NONSGML v1.0//EN
CALSCALE:GREGORIAN
METHOD:PUBLISH
X-WR-CALNAME:Obuda.hu
X-ORIGINAL-URL:https://obuda.hu
X-WR-CALDESC:Events for Obuda.hu
REFRESH-INTERVAL;VALUE=DURATION:PT1H
X-Robots-Tag:noindex
X-PUBLISHED-TTL:PT1H
BEGIN:VTIMEZONE
TZID:Europe/Budapest
BEGIN:DAYLIGHT
TZOFFSETFROM:+0100
TZOFFSETTO:+0200
TZNAME:CEST
DTSTART:20250330T010000
END:DAYLIGHT
BEGIN:STANDARD
TZOFFSETFROM:+0200
TZOFFSETTO:+0100
TZNAME:CET
DTSTART:20251026T010000
END:STANDARD
END:VTIMEZONE
BEGIN:VEVENT
DTSTART;TZID=Europe/Budapest:20251216T163000
DTEND;TZID=Europe/Budapest:20251216T183000
DTSTAMP:20260425T221748
CREATED:20251113T092833Z
LAST-MODIFIED:20260115T060015Z
UID:62533-1765902600-1765909800@obuda.hu
SUMMARY:Nyitottan az irodalomra - Platán olvasókör
DESCRIPTION:Ha egy jó könyv elolvasása után gondolataidat megosztanád egy olyan társaságban\, amit a könyvek szeretete hozott össze\, akkor köztünk a helyed! Beszéljük ki együtt aktuális kedvenceinket! Az olvasókörünk minden érdeklődő számára szabadon látogatható.   \n A téma: „Hol volt\, hol nem volt – a mesék rejtelmei”(a világ népmeséi és nagy mesemondók klasszikusai)  \nRegisztráció: rendezveny@platankonyvtar.hu 
URL:https://obuda.hu/esemeny/nyitottan-az-irodalomra-platan-olvasokor-3-2/
LOCATION:Óbudai Platán Könyvtár\, Arató Emil tér 1\, Budapest\, 1031\, Magyarország
ATTACH;FMTTYPE=image/png:https://obuda.hu/wp-content/uploads/2025/10/ls_olvasokor.png
END:VEVENT
END:VCALENDAR