BEGIN:VCALENDAR
VERSION:2.0
PRODID:-//Obuda.hu - ECPv6.11.2//NONSGML v1.0//EN
CALSCALE:GREGORIAN
METHOD:PUBLISH
X-WR-CALNAME:Obuda.hu
X-ORIGINAL-URL:https://obuda.hu
X-WR-CALDESC:Events for Obuda.hu
REFRESH-INTERVAL;VALUE=DURATION:PT1H
X-Robots-Tag:noindex
X-PUBLISHED-TTL:PT1H
BEGIN:VTIMEZONE
TZID:Europe/Budapest
BEGIN:DAYLIGHT
TZOFFSETFROM:+0100
TZOFFSETTO:+0200
TZNAME:CEST
DTSTART:20250330T010000
END:DAYLIGHT
BEGIN:STANDARD
TZOFFSETFROM:+0200
TZOFFSETTO:+0100
TZNAME:CET
DTSTART:20251026T010000
END:STANDARD
END:VTIMEZONE
BEGIN:VEVENT
DTSTART;VALUE=DATE:20250915
DTEND;VALUE=DATE:20250922
DTSTAMP:20260425T165235
CREATED:20250730T075712Z
LAST-MODIFIED:20250902T132213Z
UID:59131-1757894400-1758499199@obuda.hu
SUMMARY:Óbudai Zöld Napok
DESCRIPTION:Érdeklődik a fenntartható városi élet iránt? Szeret közösségben sportolni? Szenvedélye a bringázás? Akkor érdemes ellátogatnia az Óbudai Zöld Napok programjaira. \nAz Európai Mobilitási Hét és az Autómentes Nap kapcsán 2025. szeptember 15. és 21. között Óbuda-Békásmegyer Önkormányzat színes programkínálattal várja a fenntarthatóság\, a közösségépítés és zöld szemlélet iránt érdeklődőket az Óbudai Zöld Napok keretében. \n\nRészletes programunkat ezen a linken találják\n\n  \nSzeretettel várunk minden érdeklődőt!
URL:https://obuda.hu/esemeny/obudai-zold-napok/
ATTACH;FMTTYPE=image/png:https://obuda.hu/wp-content/uploads/2025/07/OZN_hero_1920x1005_01-1.png
END:VEVENT
END:VCALENDAR