BEGIN:VCALENDAR
VERSION:2.0
PRODID:-//Obuda.hu - ECPv6.11.2//NONSGML v1.0//EN
CALSCALE:GREGORIAN
METHOD:PUBLISH
X-WR-CALNAME:Obuda.hu
X-ORIGINAL-URL:https://obuda.hu
X-WR-CALDESC:Events for Obuda.hu
REFRESH-INTERVAL;VALUE=DURATION:PT1H
X-Robots-Tag:noindex
X-PUBLISHED-TTL:PT1H
BEGIN:VTIMEZONE
TZID:Europe/Budapest
BEGIN:DAYLIGHT
TZOFFSETFROM:+0100
TZOFFSETTO:+0200
TZNAME:CEST
DTSTART:20250330T010000
END:DAYLIGHT
BEGIN:STANDARD
TZOFFSETFROM:+0200
TZOFFSETTO:+0100
TZNAME:CET
DTSTART:20251026T010000
END:STANDARD
END:VTIMEZONE
BEGIN:VEVENT
DTSTART;TZID=Europe/Budapest:20251216T080000
DTEND;TZID=Europe/Budapest:20251216T170000
DTSTAMP:20260425T191342
CREATED:20251113T102214Z
LAST-MODIFIED:20251118T105908Z
UID:62542-1765872000-1765904400@obuda.hu
SUMMARY:Önismereti workshop : Téli ünnepek – kapcsolódás vagy magány?
DESCRIPTION:Az év végi ünnepek a szeretet ideje – de sokaknak a magányé is. Hogyan lehet méltón\, őszintén kapcsolódva magunkhoz és másokhoz megélni ezt az időszakot? Milyen eszközeink lehetnek a magány ellen?  \nA workshopot vezeti: Dr. Naderi Szima biológus\, humánetológus\, coach.  \nA részvétel ingyenes\, de regisztrációhoz kötött. Regisztrálni az alábbi elérhetőségen lehet: platanf@kszki.obuda.hu 
URL:https://obuda.hu/esemeny/onismereti-workshop-teli-unnepek-kapcsolodas-vagy-magany/
ATTACH;FMTTYPE=image/png:https://obuda.hu/wp-content/uploads/2025/10/ls_szima.png
END:VEVENT
END:VCALENDAR