BEGIN:VCALENDAR
VERSION:2.0
PRODID:-//Obuda.hu - ECPv6.11.2//NONSGML v1.0//EN
CALSCALE:GREGORIAN
METHOD:PUBLISH
X-WR-CALNAME:Obuda.hu
X-ORIGINAL-URL:https://obuda.hu
X-WR-CALDESC:Events for Obuda.hu
REFRESH-INTERVAL;VALUE=DURATION:PT1H
X-Robots-Tag:noindex
X-PUBLISHED-TTL:PT1H
BEGIN:VTIMEZONE
TZID:Europe/Budapest
BEGIN:DAYLIGHT
TZOFFSETFROM:+0100
TZOFFSETTO:+0200
TZNAME:CEST
DTSTART:20240331T010000
END:DAYLIGHT
BEGIN:STANDARD
TZOFFSETFROM:+0200
TZOFFSETTO:+0100
TZNAME:CET
DTSTART:20241027T010000
END:STANDARD
END:VTIMEZONE
BEGIN:VEVENT
DTSTART;TZID=Europe/Budapest:20240308T190000
DTEND;TZID=Europe/Budapest:20240308T210000
DTSTAMP:20260425T203100
CREATED:20240303T181947Z
LAST-MODIFIED:20260115T050007Z
UID:57190-1709924400-1709931600@obuda.hu
SUMMARY:OROSZ ZOLTÁN és BARDÓCZY ATTILA koncertje - "PÁRIZS EGE ALATT"
DESCRIPTION:https://www.obudaitarsaskor.hu/wp-content/uploads/2024/03/februar-29-tol-monitor.mp4\n  \nMINDEN JEGY ELKELT! \nNőnapi hangverseny\na Párizsi Nemzetközi Sanzonverseny győzteseivel \nOROSZ ZOLTÁN Artisjus- és eMeRTon-díjas harmonikaművész és BARDÓCZY ATTILA  előadóművész\n \n A két Művész barátsága hosszú évtizedekre tekint vissza.\n1996-ban előadásuk a Párizsi Nemzetközi Sanzonversenyen elnyerte a legjobb külföldi előadónak járó első díjat.\n2002 decemberében jelent meg közös lemezük „Párizs ege alatt” címmel\, melyen a legszebb és legismertebb francia sanzonok hallhatóak.\nA lemezről műsorukba is átörökítik a klasszikus sanzon nagyjai közül Jacques Brel\, Charles Aznavour\,\nEdith Piaf\, Juliette Greco és Yves Montand dalait\, valamint megszólalnak olyan világhírű filmek zenéi is\, mint a “Cherbourgi esernyők”\, vagy az “Orfeo Negro”. \nOrosz Zoltán a kortárs zenészek egyik legsokoldalúbb és legkiválóbb képviselője\, eMeRTon- és Artisjus-díjas harmonikaművész.  A hangszer szeretetét édesapjától örökölte\, ő volt\, aki tehetségére már korán felfigyelt\, és az első harmonikát is tőle kapta négy éves korában. 10 évesen\, korengedménnyel\, felvételt nyert a Bartók Béla Zeneművészeti Szakközépiskolába\, ahol a harmonika mellett orgonálni is tanult\, többek között Lehotka Gábortól.  A művész a világ számos pontján koncertezett már\, és az észtországi\, dániai\, finn\, belga\, norvég\, lengyel\, spanyol\, olasz és orosz fesztiválok után 1996-ban Bardóczy Attila előadóművésszel a Párizsi Nemzetközi Sanzonversenyen elnyerte a legjobb külföldi előadónak járó első díjat. A művész három egymást követő évben megnyerte az Országos Harmonikaversenyt felnőtt profi kategóriában. 2000-ben együttese megkapta a Magyar Rádió rangos elismerését az eMeRTon-díjat\, majd stílusteremtő zenei tevékenységét 2008-ban Artisjus-díjjal ismerték el. 2015. augusztus 20-án Bácsalmás Város Orosz Zoltán harmonikaművésznek a „Bácsalmás Város Díszpolgára “kitüntető címet adományozta. Orosz Zoltán zenei érdeklődése rendkívül összetett\, a klasszikus zenétől a népzenék világán át a jazzig megannyi stílusban egyformán otthonosan mozog\, így koncertjein a legkülönbözőbb zenei stílusokkal ismerkedhet meg a közönség.\nModern hangszerelési ötletek\, virtuóz „zenei párbeszédek”\, improvizációk jellemzik koncertjeit\, fergeteges hangulatot teremtve a szabadtéri fesztiváloktól a sportarénák hatalmas színpadáig\, Szingapúrtól Szibériáig\, Amerikától Indiáig a világ minden táján. \nBardóczy Attila előadóművész már gyermekkorában elsajátította Algériában a francia nyelv anyanyelvi szintű ismeretét. A Művész a valamikori Rock Színház\, majd a Budapesti Operettszínház tagja. Nagysikerű musical előadások főszerepeit játszotta\, az Evita\, a Jézus Krisztus Szupersztár\, a Miss Saigon\, a Nyomorultak és a Mozart! magyarországi bemutatóin.\n1996-ban Orosz Zoltán harmonikaművésszel a Párizsi Nemzetközi Sanzonversenyen elnyerte a legjobb külföldi előadónak járó első díjat.\nSzámtalan turnén vett részt\, melynek során egész Európában\, de Kanadától Izraelen át Japánig a világ számos színpadán fellépett\, nemcsak musicalek\, hanem operettek és gálák főszereplőjeként. Így például németül eljátszotta a Csárdáskirálynő Bóniját és a Denevér Orlowsky grófját.\nBardóczy Attila az elmúlt évek alatt számos dal\, és francia sanzon CD-t is kiadott. \nJegyár: 5000 Ft
URL:https://obuda.hu/esemeny/orosz-zoltan-es-bardoczy-attila-koncertje-parizs-ege-alatt/
LOCATION:Óbudai Társaskör\, Kiskorona utca 7.\, Budapest\, 1036\, Magyarország
END:VEVENT
END:VCALENDAR