BEGIN:VCALENDAR
VERSION:2.0
PRODID:-//Obuda.hu - ECPv6.11.2//NONSGML v1.0//EN
CALSCALE:GREGORIAN
METHOD:PUBLISH
X-WR-CALNAME:Obuda.hu
X-ORIGINAL-URL:https://obuda.hu
X-WR-CALDESC:Events for Obuda.hu
REFRESH-INTERVAL;VALUE=DURATION:PT1H
X-Robots-Tag:noindex
X-PUBLISHED-TTL:PT1H
BEGIN:VTIMEZONE
TZID:Europe/Budapest
BEGIN:DAYLIGHT
TZOFFSETFROM:+0100
TZOFFSETTO:+0200
TZNAME:CEST
DTSTART:20240331T010000
END:DAYLIGHT
BEGIN:STANDARD
TZOFFSETFROM:+0200
TZOFFSETTO:+0100
TZNAME:CET
DTSTART:20241027T010000
END:STANDARD
END:VTIMEZONE
BEGIN:VEVENT
DTSTART;TZID=Europe/Budapest:20240306T190000
DTEND;TZID=Europe/Budapest:20240306T203000
DTSTAMP:20260426T020715
CREATED:20240209T112227Z
LAST-MODIFIED:20240209T121412Z
UID:42558-1709751600-1709757000@obuda.hu
SUMMARY:Pepita Playback Társulat: Össze
DESCRIPTION:Playback-színházi előadás színpadon és képekben: itt a nézők életéből elmesélt pillanatok\, történetek\, gondolatok\, érzések elevenednek meg a színházon\, zenén és képzőművészeten keresztül.\nÖSSZMŰVÉSZETI-KÖZÖSSÉGI-PLAYBACK\nGyere és meséld el saját történetedet\, mi pedig visszajátszuk!\nJegyárak:\nElővételben: 2.300.-\nKedvezményes helyszíni: (diák\, nyugdíjas\, pedagógus): 2.500.-\nHelyszínen: 2.800.-
URL:https://obuda.hu/esemeny/pepita-playback-tarsulat-ossze/
LOCATION:Esernyős\, Szindbád Rendezvényterem\, Fő tér 2.\, Budapest\, 1033\, Magyarország
ATTACH;FMTTYPE=image/jpeg:https://obuda.hu/wp-content/uploads/2024/02/large-385527865_1773160079864781_8292369237590957850_n-jpg.webp
ORGANIZER;CN="Eserny%C5%91s %C3%93budai Kultur%C3%A1lis %C3%A9s Sport Nonprofit Kft.":MAILTO:info@esernyos.hu
END:VEVENT
END:VCALENDAR