BEGIN:VCALENDAR
VERSION:2.0
PRODID:-//Obuda.hu - ECPv6.11.2//NONSGML v1.0//EN
CALSCALE:GREGORIAN
METHOD:PUBLISH
X-WR-CALNAME:Obuda.hu
X-ORIGINAL-URL:https://obuda.hu
X-WR-CALDESC:Events for Obuda.hu
REFRESH-INTERVAL;VALUE=DURATION:PT1H
X-Robots-Tag:noindex
X-PUBLISHED-TTL:PT1H
BEGIN:VTIMEZONE
TZID:Europe/Budapest
BEGIN:DAYLIGHT
TZOFFSETFROM:+0100
TZOFFSETTO:+0200
TZNAME:CEST
DTSTART:20250330T010000
END:DAYLIGHT
BEGIN:STANDARD
TZOFFSETFROM:+0200
TZOFFSETTO:+0100
TZNAME:CET
DTSTART:20251026T010000
END:STANDARD
END:VTIMEZONE
BEGIN:VEVENT
DTSTART;TZID=Europe/Budapest:20251208T170000
DTEND;TZID=Europe/Budapest:20251208T170000
DTSTAMP:20260425T203008
CREATED:20251019T183320Z
LAST-MODIFIED:20251019T183325Z
UID:61393-1765213200-1765213200@obuda.hu
SUMMARY:Pszichológiai előadások: Immunrendszerünk és lelkiállapotunk – hogyan hatnak az érzelmek a testi egészségre?
DESCRIPTION:Előadó: Maróti Eszter – az Óbudai Egészségfejlesztési Iroda pszichológusaAz előadás rávilágít arra\, hogy hogyan befolyásolja a stressz\, a szorongás vagy éppen a jó közérzet az immunrendszer működését. Érthetően bemutatja a lélek-test kapcsolatot\, és tippeket ad arra\, hogyan erősíthetjük magunkat egyszerre pszichésen és fizikailag. \nA belépés ingyenes.
URL:https://obuda.hu/esemeny/pszichologiai-eloadasok-immunrendszerunk-es-lelkiallapotunk-hogyan-hatnak-az-erzelmek-a-testi-egeszsegre/
LOCATION:Óbudai Kulturális Központ\, San Marco utca 81.\, Budapest\, 1032\, Magyarország
ATTACH;FMTTYPE=image/jpeg:https://obuda.hu/wp-content/uploads/2025/10/tn_2832_Pszichologiai_eloadasok_____Stressz_es_taplalkozas_____amikor_az_erzelmeink_beleszolnak_az_etkezesbe-jpg.webp
END:VEVENT
END:VCALENDAR