BEGIN:VCALENDAR
VERSION:2.0
PRODID:-//Obuda.hu - ECPv6.11.2//NONSGML v1.0//EN
CALSCALE:GREGORIAN
METHOD:PUBLISH
X-WR-CALNAME:Obuda.hu
X-ORIGINAL-URL:https://obuda.hu
X-WR-CALDESC:Events for Obuda.hu
REFRESH-INTERVAL;VALUE=DURATION:PT1H
X-Robots-Tag:noindex
X-PUBLISHED-TTL:PT1H
BEGIN:VTIMEZONE
TZID:Europe/Budapest
BEGIN:DAYLIGHT
TZOFFSETFROM:+0100
TZOFFSETTO:+0200
TZNAME:CEST
DTSTART:20250330T010000
END:DAYLIGHT
BEGIN:STANDARD
TZOFFSETFROM:+0200
TZOFFSETTO:+0100
TZNAME:CET
DTSTART:20251026T010000
END:STANDARD
END:VTIMEZONE
BEGIN:VEVENT
DTSTART;TZID=Europe/Budapest:20251213T160000
DTEND;TZID=Europe/Budapest:20251213T160000
DTSTAMP:20260425T124545
CREATED:20251106T125140Z
LAST-MODIFIED:20251106T125140Z
UID:62224-1765641600-1765641600@obuda.hu
SUMMARY:Ress Hajni
DESCRIPTION:A színpadon Ress Hajnalka előadóművészt\, Pánczél Kristóf zongoraművészt és Varga Sándor Zoltán eufóniumművészt hallhatják majd. \nAz ünnep hangulatához köthető dalok nem a megszokott módon csendülnek majd fel az előadásukban\, a dalok Mariah Carey-től George Michael-en át Celine Dion-ig idéznek meg stílusokat\, miközben a kisebbekről sem feledkeznek meg a művészek. \nHangolódjunk Ress Hajniékkal az év legcsodásabb ünnepére! \nSzeretettel várjuk Önöket!
URL:https://obuda.hu/esemeny/ress-hajni/
LOCATION:Fő tér
ATTACH;FMTTYPE=image/png:https://obuda.hu/wp-content/uploads/2025/11/admin-ajax-12.png
END:VEVENT
END:VCALENDAR