BEGIN:VCALENDAR
VERSION:2.0
PRODID:-//Obuda.hu - ECPv6.11.2//NONSGML v1.0//EN
CALSCALE:GREGORIAN
METHOD:PUBLISH
X-WR-CALNAME:Obuda.hu
X-ORIGINAL-URL:https://obuda.hu
X-WR-CALDESC:Events for Obuda.hu
REFRESH-INTERVAL;VALUE=DURATION:PT1H
X-Robots-Tag:noindex
X-PUBLISHED-TTL:PT1H
BEGIN:VTIMEZONE
TZID:Europe/Budapest
BEGIN:DAYLIGHT
TZOFFSETFROM:+0100
TZOFFSETTO:+0200
TZNAME:CEST
DTSTART:20230326T010000
END:DAYLIGHT
BEGIN:STANDARD
TZOFFSETFROM:+0200
TZOFFSETTO:+0100
TZNAME:CET
DTSTART:20231029T010000
END:STANDARD
END:VTIMEZONE
BEGIN:VEVENT
DTSTART;TZID=Europe/Budapest:20231207T190000
DTEND;TZID=Europe/Budapest:20231207T220000
DTSTAMP:20260425T144203
CREATED:20231116T205744Z
LAST-MODIFIED:20231116T205744Z
UID:40503-1701975600-1701986400@obuda.hu
SUMMARY:RETRO JÉGDISZKÓ
DESCRIPTION:DECEMBER 7. és 19.\n19:00-22:00\nHelyszín: Óbuda\, Fő tér korcsolyapálya\nAz adventi forgatag közepén várjuk a korcsolyázás szerelmeseit egy fergeteges retro korcsolya party-ra. A feledhetetlen élményt garantálja a páratlan fénytechnika\, melyből nem hiányozhat a disco gömb sem.\nA hamisítatlan retro hangulatot DJ Bebe biztosítja.\nA részvétel ingyenes!
URL:https://obuda.hu/esemeny/retro-jegdiszko/
LOCATION:Fő tér
ATTACH;FMTTYPE=image/jpeg:https://obuda.hu/wp-content/uploads/2023/11/12_07_19_ESERNYOS_RETRO-JEG-DISCO-esemeny-borito-jpg.webp
ORGANIZER;CN="Eserny%C5%91s %C3%93budai Kultur%C3%A1lis %C3%A9s Sport Nonprofit Kft.":MAILTO:info@esernyos.hu
END:VEVENT
END:VCALENDAR