BEGIN:VCALENDAR
VERSION:2.0
PRODID:-//Obuda.hu - ECPv6.11.2//NONSGML v1.0//EN
CALSCALE:GREGORIAN
METHOD:PUBLISH
X-WR-CALNAME:Obuda.hu
X-ORIGINAL-URL:https://obuda.hu
X-WR-CALDESC:Events for Obuda.hu
REFRESH-INTERVAL;VALUE=DURATION:PT1H
X-Robots-Tag:noindex
X-PUBLISHED-TTL:PT1H
BEGIN:VTIMEZONE
TZID:Europe/Budapest
BEGIN:DAYLIGHT
TZOFFSETFROM:+0100
TZOFFSETTO:+0200
TZNAME:CEST
DTSTART:20250330T010000
END:DAYLIGHT
BEGIN:STANDARD
TZOFFSETFROM:+0200
TZOFFSETTO:+0100
TZNAME:CET
DTSTART:20251026T010000
END:STANDARD
END:VTIMEZONE
BEGIN:VEVENT
DTSTART;TZID=Europe/Budapest:20251220T110000
DTEND;TZID=Europe/Budapest:20251220T110000
DTSTAMP:20260425T183739
CREATED:20251019T210559Z
LAST-MODIFIED:20251019T210604Z
UID:61574-1766228400-1766228400@obuda.hu
SUMMARY:Szombati meseszínház – Diótörő – A Nektár Színház előadásában.
DESCRIPTION:A történet karácsony estéjén játszódik\, amikor is a testvérpár\, Marika és Frici izgatottan várják az ajándékokat. Legfőképp keresztapjuk meglepetésére kíváncsiak. A Diótörő érkezik\, a bábu a mese szabályai szerint életre kel és Marika képzeletében álmai Hercegévé válik és megküzd az Egérkirállyal. \nMűsoridő: 65 perc \nJegyár: 2700 Ft (2 éves kor alatt ingyenes\, ha a gyermek ölben ül.)
URL:https://obuda.hu/esemeny/szombati-meseszinhaz-diotoro-a-nektar-szinhaz-eloadasaban/
LOCATION:Békásmegyeri Közösségi Ház\, Csobánka tér 5.\, Budapest\, 1039
ATTACH;FMTTYPE=image/jpeg:https://obuda.hu/wp-content/uploads/2025/10/tn_2757_Diotoro1-jpg.webp
END:VEVENT
END:VCALENDAR