BEGIN:VCALENDAR
VERSION:2.0
PRODID:-//Obuda.hu - ECPv6.11.2//NONSGML v1.0//EN
CALSCALE:GREGORIAN
METHOD:PUBLISH
X-WR-CALNAME:Obuda.hu
X-ORIGINAL-URL:https://obuda.hu
X-WR-CALDESC:Events for Obuda.hu
REFRESH-INTERVAL;VALUE=DURATION:PT1H
X-Robots-Tag:noindex
X-PUBLISHED-TTL:PT1H
BEGIN:VTIMEZONE
TZID:Europe/Budapest
BEGIN:DAYLIGHT
TZOFFSETFROM:+0100
TZOFFSETTO:+0200
TZNAME:CEST
DTSTART:20260329T010000
END:DAYLIGHT
BEGIN:STANDARD
TZOFFSETFROM:+0200
TZOFFSETTO:+0100
TZNAME:CET
DTSTART:20261025T010000
END:STANDARD
END:VTIMEZONE
BEGIN:VEVENT
DTSTART;TZID=Europe/Budapest:20260429T190000
DTEND;TZID=Europe/Budapest:20260429T203000
DTSTAMP:20260425T185757
CREATED:20260317T103631Z
LAST-MODIFIED:20260327T120917Z
UID:71183-1777489200-1777494600@obuda.hu
SUMMARY:Társasjátékos stand up est élőben a “Mit játsszunk?” Vlog csapatával A Mit Játsszunk? bemutatja: A Világ Legjobb Játékai (és akik játsszák)
DESCRIPTION:ÁPRILIS 29. | SZERDA\n19:00-20:30\nHelyszín: Szindbád rendezvényterem\nTársasjátékos stand up est élőben a “Mit játsszunk?” Vlog csapatával\nA Mit Játsszunk? bemutatja: A Világ Legjobb Játékai (és akik játsszák) \nMiért fáj jobban kiesni\, mint amennyire jó nyerni? Mit árul el rólunk az\, ahogyan játszunk? És mi történik\, amikor a szabálykukac\, a szabályértelmező\, a túlkomolyan vevő stratéga és „csak jól akarom érezni magam” játékos egy asztalhoz ül?\nGyőri Zoli társasjátékos stand up interaktív előadása\, ahol a nevetés mögött meglepően ismerős lelki helyzetek lapulnak\, és ahol a világ legjobb társasjátékai is terítékre kerülnek. Szó lesz retro vs. modern játékélményekről\, tipikus asztali konfliktusokról\, és többek között arról is miért működik (vagy nem működik) egy játékest társaságban?\nEgy interaktív stand up\, ahol: a közönség is játszik\, reakciókat ad\, és saját magát is jobban megismeri. Gyere el\, hozd magaddal a társas haverokat és merüljetek el egy önfeledt estben\, ahol megtudhatjuk a kedvenc játékos kérdésre a választ: „Oké\, de akkor most mit is kell csinálni?” \nEz az előadás nem csak a játékokról szól. Hanem az emberekről az asztal körül. \nJegyek:\nhttps://www.tixa.hu/tarsasjatekos-stand-up-est-20260429 \nJegyárak:\nElővételben: 3 000 Ft\nHelyszínen: 3 500 Ft
URL:https://obuda.hu/esemeny/tarsasjatekos-stand-up-est-eloben-a-mit-jatsszunk-vlog-csapataval-a-mit-jatsszunk-bemutatja-a-vilag-legjobb-jatekai-es-akik-jatsszak/
LOCATION:Esernyős\, Szindbád Rendezvényterem\, Fő tér 2.\, Budapest\, 1033\, Magyarország
ATTACH;FMTTYPE=image/jpeg:https://obuda.hu/wp-content/uploads/2026/03/Facebook_esemeny_04_29_TARSAS__standup-1-jpg.webp
ORGANIZER;CN="Eserny%C5%91s %C3%93budai Kultur%C3%A1lis %C3%A9s Sport Nonprofit Kft.":MAILTO:info@esernyos.hu
END:VEVENT
END:VCALENDAR