BEGIN:VCALENDAR
VERSION:2.0
PRODID:-//Obuda.hu - ECPv6.11.2//NONSGML v1.0//EN
CALSCALE:GREGORIAN
METHOD:PUBLISH
X-WR-CALNAME:Obuda.hu
X-ORIGINAL-URL:https://obuda.hu
X-WR-CALDESC:Events for Obuda.hu
REFRESH-INTERVAL;VALUE=DURATION:PT1H
X-Robots-Tag:noindex
X-PUBLISHED-TTL:PT1H
BEGIN:VTIMEZONE
TZID:Europe/Budapest
BEGIN:DAYLIGHT
TZOFFSETFROM:+0100
TZOFFSETTO:+0200
TZNAME:CEST
DTSTART:20250330T010000
END:DAYLIGHT
BEGIN:STANDARD
TZOFFSETFROM:+0200
TZOFFSETTO:+0100
TZNAME:CET
DTSTART:20251026T010000
END:STANDARD
END:VTIMEZONE
BEGIN:VEVENT
DTSTART;TZID=Europe/Budapest:20251215T190000
DTEND;TZID=Europe/Budapest:20251215T210000
DTSTAMP:20260425T204616
CREATED:20251031T080437Z
LAST-MODIFIED:20260115T050219Z
UID:61965-1765825200-1765832400@obuda.hu
SUMMARY:TÉL\, A FÉNYBE ZÁRVA
DESCRIPTION:A Budapesti Filharmóniai Társaság decemberi koncertje ezúttal is a karácsonyvárás időszakát köszönti. Estünk a tél kontrasztjaira épít – az árnyékra és a fényre\, az elmúlásra és a megújulás ígéretére – barokk és kortárs kamarazene\, romantikus és modern hangzásvilág elegyítésével.\nA program első felében a Wind+ együttes mutatja meg\, milyen sokféle arcot ölthet a fúvós kamaramuzsika. Vajda János új\, budapesti bemutatóként elhangzó Szeptettje mellett Csajkovszkij Diótörőjének mesevilága\, valamint Piazzolla\, Berlin és Hendricks művei révén a klasszikus zene és a könnyedebb stílusok között szabadon mozgó kaleidoszkóp bontakozik ki.\nA koncert második részében a Trio Flauticello műsora a barokk eleganciát és a meghittség hangjait hozza el: Händel\, Bach és Vivaldi zenéje\, valamint karácsonyi dallamok teremtik meg a gyertyafényes esték ünnepi hangulatát.\nA zenéhez ezúttal is társul költészet – Császár Angela színművésznő válogatásában és előadásában versek segítenek az adventi várakozás elmélyítésében\, Tóth Endre zenetörténész pedig rövid háttértörténetekkel vezeti be a közönséget a művek világába. \n  \nMűsoron:\nVajda János: Szeptett – budapesti bemutató\nCsajkovszkij: A diótörő – részletek Balogh Sándor átiratában\nPiazzolla: Libertango\nIrving Berlin: Puttin’ on the Ritz\nJon Hendricks: Four Brothers \nszünet \nHändel: Salamon\, HWV 67 – Sába királynőjének bevonulása\nBach: 3. (D-dúr) szvit\, BWV 1068 – 2. Air\nBach: G-dúr orgonaszonáta\, BWV 530 – 1. Vivace\nBach: G-dúr szonáta\, BWV 1027 – 4. Allegro Moderato\nVivaldi: g-moll triószonáta\, RV 81\nVivaldi: A négy évszak – Tél\, RV 297 – 2. Largo\nKarácsonyi dalok a Trio Flauticello válogatásában\nCsajkovszkij: A diótörő – részletek \n  \nKözreműködik:\nWind+ együttes\nRácz János – fuvola\, Szélpál Krisztina – oboa\, Várnai Beáta – klarinét\, Hartenstein István – fagott\, Tóth Gábor – kürt\, Demeniv Mihály – harmonika\, Tóth János – ütőhangszerek\, Dénes Ábel – nagybőgő \nTrio Flauticello\nGjorgjevic Dóra\, Vargáné Menyhárt Zsuzsanna – fuvola\, Boldoghy Kummert Péter – cselló \nAz est házigazdája: Tóth Endre\, zenetörténész\nA verseket válogatta és előadja: Császár Angela\, Jászai Mari-díjas színművész\, érdemes és kiváló művész \n  \nA koncertre diák és senior jegy is váltható 1500 forintért.
URL:https://obuda.hu/esemeny/tel-a-fenybe-zarva/
LOCATION:Óbudai Társaskör\, Kiskorona utca 7.\, Budapest\, 1036\, Magyarország
ATTACH;FMTTYPE=image/webp:https://obuda.hu/wp-content/uploads/2025/11/tarsaskor_2025_december_1200x628px.webp
END:VEVENT
END:VCALENDAR