BEGIN:VCALENDAR
VERSION:2.0
PRODID:-//Obuda.hu - ECPv6.11.2//NONSGML v1.0//EN
CALSCALE:GREGORIAN
METHOD:PUBLISH
X-WR-CALNAME:Obuda.hu
X-ORIGINAL-URL:https://obuda.hu
X-WR-CALDESC:Events for Obuda.hu
REFRESH-INTERVAL;VALUE=DURATION:PT1H
X-Robots-Tag:noindex
X-PUBLISHED-TTL:PT1H
BEGIN:VTIMEZONE
TZID:Europe/Budapest
BEGIN:DAYLIGHT
TZOFFSETFROM:+0100
TZOFFSETTO:+0200
TZNAME:CEST
DTSTART:20250330T010000
END:DAYLIGHT
BEGIN:STANDARD
TZOFFSETFROM:+0200
TZOFFSETTO:+0100
TZNAME:CET
DTSTART:20251026T010000
END:STANDARD
END:VTIMEZONE
BEGIN:VEVENT
DTSTART;TZID=Europe/Budapest:20251221T170000
DTEND;TZID=Europe/Budapest:20251221T170000
DTSTAMP:20260425T125943
CREATED:20251106T112057Z
LAST-MODIFIED:20251106T112422Z
UID:62155-1766336400-1766336400@obuda.hu
SUMMARY:Tűzzsonglőrök
DESCRIPTION:
URL:https://obuda.hu/esemeny/tuzzsonglorok/
LOCATION:Fő tér
ATTACH;FMTTYPE=image/png:https://obuda.hu/wp-content/uploads/2025/11/admin-ajax-1.png
END:VEVENT
END:VCALENDAR