BEGIN:VCALENDAR
VERSION:2.0
PRODID:-//Obuda.hu - ECPv6.11.2//NONSGML v1.0//EN
CALSCALE:GREGORIAN
METHOD:PUBLISH
X-WR-CALNAME:Obuda.hu
X-ORIGINAL-URL:https://obuda.hu
X-WR-CALDESC:Events for Obuda.hu
REFRESH-INTERVAL;VALUE=DURATION:PT1H
X-Robots-Tag:noindex
X-PUBLISHED-TTL:PT1H
BEGIN:VTIMEZONE
TZID:Europe/Budapest
BEGIN:DAYLIGHT
TZOFFSETFROM:+0100
TZOFFSETTO:+0200
TZNAME:CEST
DTSTART:20250330T010000
END:DAYLIGHT
BEGIN:STANDARD
TZOFFSETFROM:+0200
TZOFFSETTO:+0100
TZNAME:CET
DTSTART:20251026T010000
END:STANDARD
END:VTIMEZONE
BEGIN:VEVENT
DTSTART;TZID=Europe/Budapest:20251219T170000
DTEND;TZID=Europe/Budapest:20251219T183000
DTSTAMP:20260425T141231
CREATED:20251113T110134Z
LAST-MODIFIED:20251118T105913Z
UID:62545-1766163600-1766169000@obuda.hu
SUMMARY:Ünnepi fények
DESCRIPTION:Ünnepekre hangolódás közösségi meseolvasással.  \n  \n 
URL:https://obuda.hu/esemeny/unnepi-fenyek-3/
LOCATION:Óbudai Platán Könyvtár Ezüsthegyi Könyvtára\, Ezüsthegy u. 16.\, Budapest\, 1038\, Magyarország
ATTACH;FMTTYPE=image/png:https://obuda.hu/wp-content/uploads/2025/11/ls_unnepi_fenyek_202512.png
END:VEVENT
END:VCALENDAR